BEGIN:VCALENDAR
VERSION:2.0
PRODID:-//Big Sur Land Trust - ECPv6.15.20//NONSGML v1.0//EN
CALSCALE:GREGORIAN
METHOD:PUBLISH
X-WR-CALNAME:Big Sur Land Trust
X-ORIGINAL-URL:https://bigsurlandtrust.org
X-WR-CALDESC:Events for Big Sur Land Trust
REFRESH-INTERVAL;VALUE=DURATION:PT1H
X-Robots-Tag:noindex
X-PUBLISHED-TTL:PT1H
BEGIN:VTIMEZONE
TZID:America/Los_Angeles
BEGIN:DAYLIGHT
TZOFFSETFROM:-0800
TZOFFSETTO:-0700
TZNAME:PDT
DTSTART:20240310T100000
END:DAYLIGHT
BEGIN:STANDARD
TZOFFSETFROM:-0700
TZOFFSETTO:-0800
TZNAME:PST
DTSTART:20241103T090000
END:STANDARD
BEGIN:DAYLIGHT
TZOFFSETFROM:-0800
TZOFFSETTO:-0700
TZNAME:PDT
DTSTART:20250309T100000
END:DAYLIGHT
BEGIN:STANDARD
TZOFFSETFROM:-0700
TZOFFSETTO:-0800
TZNAME:PST
DTSTART:20251102T090000
END:STANDARD
BEGIN:DAYLIGHT
TZOFFSETFROM:-0800
TZOFFSETTO:-0700
TZNAME:PDT
DTSTART:20260308T100000
END:DAYLIGHT
BEGIN:STANDARD
TZOFFSETFROM:-0700
TZOFFSETTO:-0800
TZNAME:PST
DTSTART:20261101T090000
END:STANDARD
END:VTIMEZONE
BEGIN:VEVENT
DTSTART;TZID=America/Los_Angeles:20250827T140000
DTEND;TZID=America/Los_Angeles:20250827T170000
DTSTAMP:20260423T032021
CREATED:20250806T215755Z
LAST-MODIFIED:20250806T215755Z
UID:10000248-1756303200-1756314000@bigsurlandtrust.org
SUMMARY:Iceplant Removal | August 27
DESCRIPTION:Join BSLT to remove invasive iceplant in an effort to restore and care for Martin Dunes. \nLocated within the Monterey Bay dune complex\, Martin Dunes protects critical habitat for several special status species\, including the Monterey spineflower\, Smith’s blue butterfly\, and Western snowy plover. However\, introduced invasive species such as ice plant and annual grasses are prime threats to this native coastal dune system. \nJoin BSLT staff and volunteers in removing these invasive species to restore and care for the lands we love at Martin Dunes on August 27 (2:00 PM – 5:00 PM). Water\, snacks\, gloves\, and hand tools will be provided. Volunteers will work to manually remove as many satellite populations of iceplant as possible. \nRegister >>
URL:https://bigsurlandtrust.org/event/iceplant-removal-august-27/
LOCATION:Salinas River National Wildlife Refuge Salinas\, CA 93908\, Salinas\, CA\, 93908\, United States
CATEGORIES:Volunteer Opportunities
ATTACH;FMTTYPE=image/jpeg:https://bigsurlandtrust.org/wp-content/uploads/2023/06/Martin-Dunes.-Volunteer-Event.-Iceplant-pull.-09-25-2021.-by-JC-NikonJCN_5837-copy.jpeg
END:VEVENT
END:VCALENDAR