BEGIN:VCALENDAR
VERSION:2.0
PRODID:-//Big Sur Land Trust - ECPv6.15.20//NONSGML v1.0//EN
CALSCALE:GREGORIAN
METHOD:PUBLISH
X-WR-CALNAME:Big Sur Land Trust
X-ORIGINAL-URL:https://bigsurlandtrust.org
X-WR-CALDESC:Events for Big Sur Land Trust
REFRESH-INTERVAL;VALUE=DURATION:PT1H
X-Robots-Tag:noindex
X-PUBLISHED-TTL:PT1H
BEGIN:VTIMEZONE
TZID:America/Los_Angeles
BEGIN:DAYLIGHT
TZOFFSETFROM:-0800
TZOFFSETTO:-0700
TZNAME:PDT
DTSTART:20240310T100000
END:DAYLIGHT
BEGIN:STANDARD
TZOFFSETFROM:-0700
TZOFFSETTO:-0800
TZNAME:PST
DTSTART:20241103T090000
END:STANDARD
BEGIN:DAYLIGHT
TZOFFSETFROM:-0800
TZOFFSETTO:-0700
TZNAME:PDT
DTSTART:20250309T100000
END:DAYLIGHT
BEGIN:STANDARD
TZOFFSETFROM:-0700
TZOFFSETTO:-0800
TZNAME:PST
DTSTART:20251102T090000
END:STANDARD
BEGIN:DAYLIGHT
TZOFFSETFROM:-0800
TZOFFSETTO:-0700
TZNAME:PDT
DTSTART:20260308T100000
END:DAYLIGHT
BEGIN:STANDARD
TZOFFSETFROM:-0700
TZOFFSETTO:-0800
TZNAME:PST
DTSTART:20261101T090000
END:STANDARD
END:VTIMEZONE
BEGIN:VEVENT
DTSTART;TZID=America/Los_Angeles:20250920T090000
DTEND;TZID=America/Los_Angeles:20250920T160000
DTSTAMP:20260423T014356
CREATED:20250902T223233Z
LAST-MODIFIED:20250902T223233Z
UID:10000253-1758358800-1758384000@bigsurlandtrust.org
SUMMARY:Salinas River Day Celebration | September 20
DESCRIPTION:Saturday\, September 20\n9:00am – 4:00pm\nNob Hill Foods\, Salinas \nIn honor of Latino Conservation Week\, join us on Saturday\, September 20 for a field trip to celebrate the Salinas River\, which is the backbone of the Salinas Valley. \nDuring the field trip\, enjoy a day of recreation\, art\, exploration and reflection on our public lands. We will also hear from experts about the history\, hydrology\, ecology\, conservation of the Salinas River\, and ways to care for the river through nature-based solutions\, climate adaptation\, and environmental justice. \nRegister >>
URL:https://bigsurlandtrust.org/event/salinas-river-day-celebration-september-20/
LOCATION:CA
CATEGORIES:Community Events
ATTACH;FMTTYPE=image/jpeg:https://bigsurlandtrust.org/wp-content/uploads/2025/09/SalinasRiverDay_25.jpeg
END:VEVENT
END:VCALENDAR