BEGIN:VCALENDAR
VERSION:2.0
PRODID:-//Big Sur Land Trust - ECPv6.15.20//NONSGML v1.0//EN
CALSCALE:GREGORIAN
METHOD:PUBLISH
X-ORIGINAL-URL:https://bigsurlandtrust.org
X-WR-CALDESC:Events for Big Sur Land Trust
REFRESH-INTERVAL;VALUE=DURATION:PT1H
X-Robots-Tag:noindex
X-PUBLISHED-TTL:PT1H
BEGIN:VTIMEZONE
TZID:America/Los_Angeles
BEGIN:DAYLIGHT
TZOFFSETFROM:-0800
TZOFFSETTO:-0700
TZNAME:PDT
DTSTART:20250309T100000
END:DAYLIGHT
BEGIN:STANDARD
TZOFFSETFROM:-0700
TZOFFSETTO:-0800
TZNAME:PST
DTSTART:20251102T090000
END:STANDARD
BEGIN:DAYLIGHT
TZOFFSETFROM:-0800
TZOFFSETTO:-0700
TZNAME:PDT
DTSTART:20260308T100000
END:DAYLIGHT
BEGIN:STANDARD
TZOFFSETFROM:-0700
TZOFFSETTO:-0800
TZNAME:PST
DTSTART:20261101T090000
END:STANDARD
BEGIN:DAYLIGHT
TZOFFSETFROM:-0800
TZOFFSETTO:-0700
TZNAME:PDT
DTSTART:20270314T100000
END:DAYLIGHT
BEGIN:STANDARD
TZOFFSETFROM:-0700
TZOFFSETTO:-0800
TZNAME:PST
DTSTART:20271107T090000
END:STANDARD
END:VTIMEZONE
BEGIN:VEVENT
DTSTART;TZID=America/Los_Angeles:20260207T093000
DTEND;TZID=America/Los_Angeles:20260207T140000
DTSTAMP:20260419T160241
CREATED:20260129T185608Z
LAST-MODIFIED:20260129T185608Z
UID:10000273-1770456600-1770472800@bigsurlandtrust.org
SUMMARY:Floodplain Habitat Stewardship Day/Cuidado de la Llanura de Inundación | February 7
DESCRIPTION:Help restore Ensen Community Park! \nJoin us for a hands-on volunteer effort at Big Sur Land Trust’s Floodplain Restoration Project site in Ensen Community Park! Volunteers will have a unique opportunity to enter the restoration area — currently closed due to construction — to learn about ongoing habitat improvements and help with essential weeding and clean‑up efforts. \nRegister >>
URL:https://bigsurlandtrust.org/event/floodplain-habitat-stewardship-day-cuidado-de-la-llanura-de-inundacion-february-7/
LOCATION:Ensen Community Park\, 99 La Posada Drive\, Salinas\, CA\, 93906
CATEGORIES:Volunteer Opportunities
ATTACH;FMTTYPE=image/jpeg:https://bigsurlandtrust.org/wp-content/uploads/2025/07/Ensen-landing-page.jpg
END:VEVENT
END:VCALENDAR