BEGIN:VCALENDAR
VERSION:2.0
PRODID:-//Big Sur Land Trust - ECPv6.15.20//NONSGML v1.0//EN
CALSCALE:GREGORIAN
METHOD:PUBLISH
X-ORIGINAL-URL:https://bigsurlandtrust.org
X-WR-CALDESC:Events for Big Sur Land Trust
REFRESH-INTERVAL;VALUE=DURATION:PT1H
X-Robots-Tag:noindex
X-PUBLISHED-TTL:PT1H
BEGIN:VTIMEZONE
TZID:America/Los_Angeles
BEGIN:DAYLIGHT
TZOFFSETFROM:-0800
TZOFFSETTO:-0700
TZNAME:PDT
DTSTART:20250309T100000
END:DAYLIGHT
BEGIN:STANDARD
TZOFFSETFROM:-0700
TZOFFSETTO:-0800
TZNAME:PST
DTSTART:20251102T090000
END:STANDARD
BEGIN:DAYLIGHT
TZOFFSETFROM:-0800
TZOFFSETTO:-0700
TZNAME:PDT
DTSTART:20260308T100000
END:DAYLIGHT
BEGIN:STANDARD
TZOFFSETFROM:-0700
TZOFFSETTO:-0800
TZNAME:PST
DTSTART:20261101T090000
END:STANDARD
BEGIN:DAYLIGHT
TZOFFSETFROM:-0800
TZOFFSETTO:-0700
TZNAME:PDT
DTSTART:20270314T100000
END:DAYLIGHT
BEGIN:STANDARD
TZOFFSETFROM:-0700
TZOFFSETTO:-0800
TZNAME:PST
DTSTART:20271107T090000
END:STANDARD
END:VTIMEZONE
BEGIN:VEVENT
DTSTART;TZID=America/Los_Angeles:20260214T100000
DTEND;TZID=America/Los_Angeles:20260214T140000
DTSTAMP:20260423T014519
CREATED:20260126T164834Z
LAST-MODIFIED:20260209T173357Z
UID:10000272-1771063200-1771077600@bigsurlandtrust.org
SUMMARY:FULL! Sticky Eupatorium Pull at Mitteldorf Preserve | February 14
DESCRIPTION:Enjoy the day at the beautiful Mitteldorf Preserve! Come explore\, hike\, and help Big Sur Land Trust staff eradicate sticky eupatorium within the nature loop area\, around the lodge\, and off Williams Canyon Road. \nSticky eupatorium (Ageratina adenophora) is a federally-listed noxious weed that is invasive within Monterey County. It invades coastal and mountain habitats\, especially within riparian areas. This plant can out-compete native vegetation and form dense thickets\, altering the natural habitat and crowding out waterways. \nRegister >>
URL:https://bigsurlandtrust.org/event/sticky-eupatorium-pull-at-mitteldorf-preserve-february-14/
LOCATION:Mitteldorf Preserve
CATEGORIES:Volunteer Opportunities
ATTACH;FMTTYPE=image/jpeg:https://bigsurlandtrust.org/wp-content/uploads/2026/01/Mitteldorf_26.jpeg
END:VEVENT
END:VCALENDAR