BEGIN:VCALENDAR
VERSION:2.0
PRODID:-//Big Sur Land Trust - ECPv6.15.20//NONSGML v1.0//EN
CALSCALE:GREGORIAN
METHOD:PUBLISH
X-ORIGINAL-URL:https://bigsurlandtrust.org
X-WR-CALDESC:Events for Big Sur Land Trust
REFRESH-INTERVAL;VALUE=DURATION:PT1H
X-Robots-Tag:noindex
X-PUBLISHED-TTL:PT1H
BEGIN:VTIMEZONE
TZID:America/Los_Angeles
BEGIN:DAYLIGHT
TZOFFSETFROM:-0800
TZOFFSETTO:-0700
TZNAME:PDT
DTSTART:20230312T100000
END:DAYLIGHT
BEGIN:STANDARD
TZOFFSETFROM:-0700
TZOFFSETTO:-0800
TZNAME:PST
DTSTART:20231105T090000
END:STANDARD
BEGIN:DAYLIGHT
TZOFFSETFROM:-0800
TZOFFSETTO:-0700
TZNAME:PDT
DTSTART:20240310T100000
END:DAYLIGHT
BEGIN:STANDARD
TZOFFSETFROM:-0700
TZOFFSETTO:-0800
TZNAME:PST
DTSTART:20241103T090000
END:STANDARD
BEGIN:DAYLIGHT
TZOFFSETFROM:-0800
TZOFFSETTO:-0700
TZNAME:PDT
DTSTART:20250309T100000
END:DAYLIGHT
BEGIN:STANDARD
TZOFFSETFROM:-0700
TZOFFSETTO:-0800
TZNAME:PST
DTSTART:20251102T090000
END:STANDARD
END:VTIMEZONE
BEGIN:VEVENT
DTSTART;TZID=America/Los_Angeles:20241030T153000
DTEND;TZID=America/Los_Angeles:20241030T183000
DTSTAMP:20260422T063825
CREATED:20241023T200737Z
LAST-MODIFIED:20241023T200737Z
UID:10000214-1730302200-1730313000@bigsurlandtrust.org
SUMMARY:Wildlife Conservation Board Strategic Plan Workshop in Monterey | October 30
DESCRIPTION:The California Wildlife Conservation Board (WCB) plays a crucial role in allocating funds for the purchase of land and waters for the preservation\, protection\, and restoration of wildlife habitat and for recreation purposes. WCB has been a significant supporter of Big Sur Land Trust by providing substantial financial assistance for projects like our Ensen Community Park and restoration project at Carr Lake in Salinas and our protection of critical wildlife corridors on over 5\,000 acres at Basin Ranch in Carmel Valley. \nWCB is holding workshops around the state to discuss their 2025-2030 Strategic Plan. You’re invited to this informal\, open house-style workshop to learn about WCB and help them chart their future. Interactive stations will highlight programs that support protecting biodiversity\, increasing access to nature\, and taking action on climate change with plenty of opportunities to ask questions. Stop by and stay as long as you like! \nWhat: WCB Strategic Plan Workshop \nWhen: Wednesday\, October 30 from 3:30pm – 6:30pm \nWhere: Japanese American Citizens League Hall\, 424 Adams St. in Monterey \nThank you to the Japanese American Citizens League for hosting this special event. We hope to see you there! \nRSVP >>
URL:https://bigsurlandtrust.org/event/wildlife-conservation-board-strategic-plan-workshop-in-monterey-october-30/
LOCATION:Japanese American Citizens League Hall\, 424 Adams St\, Monterey\, CA\, 93940\, United States
CATEGORIES:Community Events
ATTACH;FMTTYPE=image/jpeg:https://bigsurlandtrust.org/wp-content/uploads/2024/10/102224_BSLT-scaled.jpg
END:VEVENT
END:VCALENDAR