BEGIN:VCALENDAR
VERSION:2.0
PRODID:-//Big Sur Land Trust - ECPv6.15.20//NONSGML v1.0//EN
CALSCALE:GREGORIAN
METHOD:PUBLISH
X-WR-CALNAME:Big Sur Land Trust
X-ORIGINAL-URL:https://bigsurlandtrust.org
X-WR-CALDESC:Events for Big Sur Land Trust
REFRESH-INTERVAL;VALUE=DURATION:PT1H
X-Robots-Tag:noindex
X-PUBLISHED-TTL:PT1H
BEGIN:VTIMEZONE
TZID:America/Los_Angeles
BEGIN:DAYLIGHT
TZOFFSETFROM:-0800
TZOFFSETTO:-0700
TZNAME:PDT
DTSTART:20230312T100000
END:DAYLIGHT
BEGIN:STANDARD
TZOFFSETFROM:-0700
TZOFFSETTO:-0800
TZNAME:PST
DTSTART:20231105T090000
END:STANDARD
BEGIN:DAYLIGHT
TZOFFSETFROM:-0800
TZOFFSETTO:-0700
TZNAME:PDT
DTSTART:20240310T100000
END:DAYLIGHT
BEGIN:STANDARD
TZOFFSETFROM:-0700
TZOFFSETTO:-0800
TZNAME:PST
DTSTART:20241103T090000
END:STANDARD
BEGIN:DAYLIGHT
TZOFFSETFROM:-0800
TZOFFSETTO:-0700
TZNAME:PDT
DTSTART:20250309T100000
END:DAYLIGHT
BEGIN:STANDARD
TZOFFSETFROM:-0700
TZOFFSETTO:-0800
TZNAME:PST
DTSTART:20251102T090000
END:STANDARD
END:VTIMEZONE
BEGIN:VEVENT
DTSTART;TZID=America/Los_Angeles:20241110T073000
DTEND;TZID=America/Los_Angeles:20241110T140000
DTSTAMP:20260422T045820
CREATED:20240827T195334Z
LAST-MODIFIED:20240827T203120Z
UID:10000205-1731223800-1731247200@bigsurlandtrust.org
SUMMARY:Monterey Bay Half Marathon BSLT Green Team | November 10
DESCRIPTION:Big Sur Land Trust is proud to be among the over 50 community groups that volunteer to make the Monterey Bay Half Marathon a sustainable and eco-friendly event each fall. This partnership is a joyful part of our work for healthy lands\, healthy people\, and healthy communities.   \nOn Sunday\, November 10th volunteer on the Monterey Bay Half Marathon’s ‘Green Team’ on behalf of Big Sur Land Trust\, as we help the event ‘leave no trace’ by sweeping the start/finish of litter (7:30am-12:30pm shift) as well as the course itself (10am-2pm shift). Please sign up here using the password BSLT.  \nKids are welcome (they do not need an RSVP) but must be accompanied by an adult. Volunteers should bring snacks\, lunch\, water\, and sun protection.  \nRegister here >> 
URL:https://bigsurlandtrust.org/event/monterey-bay-half-marathon-bslt-green-team-november-10/
LOCATION:CA
CATEGORIES:Community Events,Volunteer Opportunities
ATTACH;FMTTYPE=image/png:https://bigsurlandtrust.org/wp-content/uploads/2024/08/Screenshot-2024-08-27-at-12.01.57-PM.png
END:VEVENT
END:VCALENDAR