BEGIN:VCALENDAR
VERSION:2.0
PRODID:-//Big Sur Land Trust - ECPv6.15.20//NONSGML v1.0//EN
CALSCALE:GREGORIAN
METHOD:PUBLISH
X-WR-CALNAME:Big Sur Land Trust
X-ORIGINAL-URL:https://bigsurlandtrust.org
X-WR-CALDESC:Events for Big Sur Land Trust
REFRESH-INTERVAL;VALUE=DURATION:PT1H
X-Robots-Tag:noindex
X-PUBLISHED-TTL:PT1H
BEGIN:VTIMEZONE
TZID:America/Los_Angeles
BEGIN:DAYLIGHT
TZOFFSETFROM:-0800
TZOFFSETTO:-0700
TZNAME:PDT
DTSTART:20200308T100000
END:DAYLIGHT
BEGIN:STANDARD
TZOFFSETFROM:-0700
TZOFFSETTO:-0800
TZNAME:PST
DTSTART:20201101T090000
END:STANDARD
BEGIN:DAYLIGHT
TZOFFSETFROM:-0800
TZOFFSETTO:-0700
TZNAME:PDT
DTSTART:20210314T100000
END:DAYLIGHT
BEGIN:STANDARD
TZOFFSETFROM:-0700
TZOFFSETTO:-0800
TZNAME:PST
DTSTART:20211107T090000
END:STANDARD
BEGIN:DAYLIGHT
TZOFFSETFROM:-0800
TZOFFSETTO:-0700
TZNAME:PDT
DTSTART:20220313T100000
END:DAYLIGHT
BEGIN:STANDARD
TZOFFSETFROM:-0700
TZOFFSETTO:-0800
TZNAME:PST
DTSTART:20221106T090000
END:STANDARD
BEGIN:DAYLIGHT
TZOFFSETFROM:-0800
TZOFFSETTO:-0700
TZNAME:PDT
DTSTART:20230312T100000
END:DAYLIGHT
BEGIN:STANDARD
TZOFFSETFROM:-0700
TZOFFSETTO:-0800
TZNAME:PST
DTSTART:20231105T090000
END:STANDARD
BEGIN:DAYLIGHT
TZOFFSETFROM:-0800
TZOFFSETTO:-0700
TZNAME:PDT
DTSTART:20240310T100000
END:DAYLIGHT
BEGIN:STANDARD
TZOFFSETFROM:-0700
TZOFFSETTO:-0800
TZNAME:PST
DTSTART:20241103T090000
END:STANDARD
BEGIN:DAYLIGHT
TZOFFSETFROM:-0800
TZOFFSETTO:-0700
TZNAME:PDT
DTSTART:20250309T100000
END:DAYLIGHT
BEGIN:STANDARD
TZOFFSETFROM:-0700
TZOFFSETTO:-0800
TZNAME:PST
DTSTART:20251102T090000
END:STANDARD
END:VTIMEZONE
BEGIN:VEVENT
DTSTART;TZID=America/Los_Angeles:20240405T090000
DTEND;TZID=America/Los_Angeles:20240405T150000
DTSTAMP:20260420T002525
CREATED:20240318T202846Z
LAST-MODIFIED:20240318T202952Z
UID:10000189-1712307600-1712329200@bigsurlandtrust.org
SUMMARY:'Birds and Blooms' walk at Marks Ranch | April 5
DESCRIPTION:Join us for a springtime ‘birds and blooms’ walk at Big Sur Land Trust’s Marks Ranch as we celebrate Earth Day all month long. \nThis April\, Big Sur Land Trust will be celebrating Earth Day all month long\, with guided hikes throughout our preserves and on lands throughout Monterey County that are part of our 45-year and over 45\,000 acre legacy of land conservation. \nFor this hike\, we will be joined by our birding expert friends at Monterey Audubon Society as well as a wildflower nauturalist to learn about the wildflowers and birds of this unique property. \n\nDistance: 2.5 miles\nElevation: ~180 ft\nDifficulty: Easy. We’ll walk about 2.5 miles roundtrip on dirt roads and trails. Participants should expect some areas of muddy/wet trail\, narrow cattle gates\, and some areas of uneven terrain.\nPace: Easy\nParticipant limit: 12\n\nRegister >>
URL:https://bigsurlandtrust.org/event/birds-and-blooms-walk-at-marks-ranch-april-5/
LOCATION:Marks Ranch\, 117th Drive\, Salinas\, CA\, 93908\, United States
CATEGORIES:Guided Hikes,Hikes
ATTACH;FMTTYPE=image/jpeg:https://bigsurlandtrust.org/wp-content/uploads/2024/03/MarksRanch.jpeg
END:VEVENT
BEGIN:VEVENT
DTSTART;TZID=America/Los_Angeles:20211120T090000
DTEND;TZID=America/Los_Angeles:20211120T140000
DTSTAMP:20260420T002525
CREATED:20211103T171730Z
LAST-MODIFIED:20220308T185907Z
UID:10000070-1637398800-1637416800@bigsurlandtrust.org
SUMMARY:Docent-led Hike | November 20
DESCRIPTION:Docent-led hikes are back! Our volunteer hike leaders are very excited to get on the lands we all love with you. \nSaturday\, November 20\n9:00am – 2:00pm\nMartin Dunes\, Marina\n \nLevel of difficulty- moderately strenuous as we’ll be trekking around the coastline and sand dunes. \nMartin Dunes is a 125-acre biological wonderland filled with wind-swept sands\, wildflowers\, and spectacular views. You’ll want to bring binoculars to view everything this unique ancient seafloor offers including 17 different rare and threatened plants and animals. Wear layers as temperatures can vary. Pack water\, sunscreen\, snacks\, and a blanket to sit on. No pets\, please. \nSince space is limited\, you may be notified that you are on a waitlist. Thank you for your understanding and we look forward to seeing you soon!\n\nThis event has passed. Please stay tuned for more events like this one.
URL:https://bigsurlandtrust.org/event/docent-led-hike-november-20/
LOCATION:CA
CATEGORIES:Community Events,Hikes
ATTACH;FMTTYPE=image/jpeg:https://bigsurlandtrust.org/wp-content/uploads/2021/11/JCN_4164.jpg
END:VEVENT
BEGIN:VEVENT
DTSTART;TZID=America/Los_Angeles:20211113T073000
DTEND;TZID=America/Los_Angeles:20211113T150000
DTSTAMP:20260420T002525
CREATED:20211103T171637Z
LAST-MODIFIED:20220308T190009Z
UID:10000069-1636788600-1636815600@bigsurlandtrust.org
SUMMARY:FULL! Docent-led Hike | November 13
DESCRIPTION:NOTE: This hike has reached capacity and is now full. \nDocent-led hikes are back! Our volunteer hike leaders are very excited to get on the lands we all love with you. \nSaturday\, November 13\n7:30am – 3:00pm\nArroyo Seco Ranch\, Greenfield \nLevel of Difficulty – moderately strenuous. \nThis full-day hike will take you through rich riparian habitat\, dense oak woodlands\, steep canyons and a historical location on the ranch. Along the way\, you’ll be treated to sweeping views of the Arroyo Seco Watershed. Hiking poles highly recommended for shallow river crossings\, steep slopes and rocky terrain. Temperatures can be expected to exceed 80 degrees Fahrenheit. Elevation gain – 500 ft. Distance – 4 miles. \nThis event has passed. Please stay tuned for more events like this one.
URL:https://bigsurlandtrust.org/event/docent-led-hike-november-13/
LOCATION:Arroyo Seco\, Meet at Wild Goose Café 18 E Carmel Valley Road\, Carmel Valley\, CA\, 93924\, United States
CATEGORIES:Community Events,Hikes
ATTACH;FMTTYPE=image/jpeg:https://bigsurlandtrust.org/wp-content/uploads/2021/11/Arroyo-Seo-Hike-2021-by-Jose-Carlos-Navarro-26.jpg
END:VEVENT
END:VCALENDAR