BEGIN:VCALENDAR
VERSION:2.0
PRODID:-//Big Sur Land Trust - ECPv6.15.20//NONSGML v1.0//EN
CALSCALE:GREGORIAN
METHOD:PUBLISH
X-ORIGINAL-URL:https://bigsurlandtrust.org
X-WR-CALDESC:Events for Big Sur Land Trust
REFRESH-INTERVAL;VALUE=DURATION:PT1H
X-Robots-Tag:noindex
X-PUBLISHED-TTL:PT1H
BEGIN:VTIMEZONE
TZID:America/Los_Angeles
BEGIN:DAYLIGHT
TZOFFSETFROM:-0800
TZOFFSETTO:-0700
TZNAME:PDT
DTSTART:20230312T100000
END:DAYLIGHT
BEGIN:STANDARD
TZOFFSETFROM:-0700
TZOFFSETTO:-0800
TZNAME:PST
DTSTART:20231105T090000
END:STANDARD
BEGIN:DAYLIGHT
TZOFFSETFROM:-0800
TZOFFSETTO:-0700
TZNAME:PDT
DTSTART:20240310T100000
END:DAYLIGHT
BEGIN:STANDARD
TZOFFSETFROM:-0700
TZOFFSETTO:-0800
TZNAME:PST
DTSTART:20241103T090000
END:STANDARD
BEGIN:DAYLIGHT
TZOFFSETFROM:-0800
TZOFFSETTO:-0700
TZNAME:PDT
DTSTART:20250309T100000
END:DAYLIGHT
BEGIN:STANDARD
TZOFFSETFROM:-0700
TZOFFSETTO:-0800
TZNAME:PST
DTSTART:20251102T090000
END:STANDARD
BEGIN:DAYLIGHT
TZOFFSETFROM:-0800
TZOFFSETTO:-0700
TZNAME:PDT
DTSTART:20260308T100000
END:DAYLIGHT
BEGIN:STANDARD
TZOFFSETFROM:-0700
TZOFFSETTO:-0800
TZNAME:PST
DTSTART:20261101T090000
END:STANDARD
END:VTIMEZONE
BEGIN:VEVENT
DTSTART;TZID=America/Los_Angeles:20250612T120000
DTEND;TZID=America/Los_Angeles:20250612T130000
DTSTAMP:20260422T031433
CREATED:20250327T202708Z
LAST-MODIFIED:20250327T203615Z
UID:10000233-1749729600-1749733200@bigsurlandtrust.org
SUMMARY:Big Sur Land Trust Volunteer Orientation | June 12
DESCRIPTION:A virtual orientation to learn more about Big Sur Land Trust and our volunteer opportunities. \n\n\nYour dedication to your community is what makes it a vibrant place! You have chosen to become a volunteer with Big Sur Land Trust\, and we want us to get better acquainted. Whether you are a new or current volunteer\, please join us for this online volunteer orientation. \nThrough this orientation\, you will become more familiar with Big Sur Land Trust’s mission\, history\, programs\, organizational structure\, and volunteer opportunities so that you are more fully informed about the organization you hope to so generously support through volunteering. This will also be your chance to interact with staff members and ask questions. \nThere is nothing you need to do to prepare for this orientation – just join us! However\, if you’d like to learn more about who you will hear from\, and some of the things you will hear about\, here are a few links to peruse: \n\nOur Get Involved! page has links to all the ways you can get involved with Big Sur Land Trust\, from making a hike request to submitting a photo. You can also review our volunteer roles and click each to learn more about them.\nCheck out our upcoming events\, including upcoming public volunteer workdays. You can also review past events to get a feel for what we’ve been up to.\nYour orientation will be given by Jenny Jacox\, Engagement Lead for Big Sur Land Trust. Until you meet personally\, you can learn more about Jenny\, and all Big Sur Land Trust’s staff members\, on our Staff page.\nFinally\, you can learn about our work and where we (and often\, volunteers) are most active by visiting our Where We Work page.\n\nOur work would not be possible without the generosity of our donors and volunteers. Thank you for your interest in volunteering with Big Sur Land Trust. We look forward to seeing you soon! \nRegister >>
URL:https://bigsurlandtrust.org/event/bslt-volunteer-orientation-june12/
LOCATION:Online
CATEGORIES:Online,Volunteer Opportunities
ATTACH;FMTTYPE=image/jpeg:https://bigsurlandtrust.org/wp-content/uploads/2022/08/Marks-Ranch-Maintenance-Monday-Volunteer-Event-6-7-2021-by-Maureen-CaseyMaureen-Casey-3-1-e1743107768496.jpg
END:VEVENT
BEGIN:VEVENT
DTSTART;TZID=America/Los_Angeles:20250130T170000
DTEND;TZID=America/Los_Angeles:20250130T180000
DTSTAMP:20260422T031433
CREATED:20241220T170123Z
LAST-MODIFIED:20250106T202028Z
UID:10000221-1738256400-1738260000@bigsurlandtrust.org
SUMMARY:You Make it Possible | January 30
DESCRIPTION:With gratitude for all your support\, we invite you to join our celebration of all you’ve made possible! Bring a glass of water\, wine\, or both for a virtual chat with our President and CEO\, Jeannette Tuitele-Lewis\, and Big Sur Land Trust staff. We’ll share inspirational stories of your generosity in action\, as well as what we’re looking forward to accomplishing in 2025. We’ll also give you a preview of our events calendar\, and you’ll have an opportunity to ask questions. \nRegister >>
URL:https://bigsurlandtrust.org/event/you-make-it-possible-january-30/
CATEGORIES:Community Events,Online
ATTACH;FMTTYPE=image/jpeg:https://bigsurlandtrust.org/wp-content/uploads/2024/12/Monarch-orange-on-orange-2.jpg
END:VEVENT
BEGIN:VEVENT
DTSTART;TZID=America/Los_Angeles:20240529T183000
DTEND;TZID=America/Los_Angeles:20240529T193000
DTSTAMP:20260422T031433
CREATED:20240502T171708Z
LAST-MODIFIED:20240516T150927Z
UID:10000196-1717007400-1717011000@bigsurlandtrust.org
SUMMARY:Birding at Your Fingertips: the eBird and Merlin apps | May 29
DESCRIPTION:Amanda Preece of the Monterey Audubon Society shows us how to use these powerful tools to recognize and record birds on the lands we love. \neBird is a global community science program\, with 990\,000 users and over 92 million digital bird checklists. It was created and continues to be managed by the Cornell Lab of Ornithology\, and has been widely used in scientific research to study phenology\, species distributions\, population trends\, evolution\, and behavior. It’s used daily by birders and helps beginning birders learn what species are common in the region and where to go to find specific species. Anyone can contribute and anyone can utilize the information! \nIn this introductory workshop\, we’ll cover how to use eBird to submit bird observations and explore the database. We’ll learn to use both the eBird app and the website. We’ll also explore the Merlin app\, which helps you learn to identify birds and is powered by the eBird database. \nThis short workshop will be led by Amanda Preece from the Monterey Audubon Society. We’ll record the presentation for future reference. \nPhoto credit: BSLT volunteer photographer Bradley Dunbaugh \nRegister >> 
URL:https://bigsurlandtrust.org/event/birding-at-your-fingertips-the-ebird-and-merlin-apps-may-29/
LOCATION:Online
CATEGORIES:Online
ATTACH;FMTTYPE=image/jpeg:https://bigsurlandtrust.org/wp-content/uploads/2024/05/https___cdn.evbuc_.com_images_752387849_933105895913_1_original.jpg
END:VEVENT
END:VCALENDAR