BEGIN:VCALENDAR
VERSION:2.0
PRODID:-//Big Sur Land Trust - ECPv6.15.20//NONSGML v1.0//EN
CALSCALE:GREGORIAN
METHOD:PUBLISH
X-ORIGINAL-URL:https://bigsurlandtrust.org
X-WR-CALDESC:Events for Big Sur Land Trust
REFRESH-INTERVAL;VALUE=DURATION:PT1H
X-Robots-Tag:noindex
X-PUBLISHED-TTL:PT1H
BEGIN:VTIMEZONE
TZID:America/Los_Angeles
BEGIN:DAYLIGHT
TZOFFSETFROM:-0800
TZOFFSETTO:-0700
TZNAME:PDT
DTSTART:20240310T100000
END:DAYLIGHT
BEGIN:STANDARD
TZOFFSETFROM:-0700
TZOFFSETTO:-0800
TZNAME:PST
DTSTART:20241103T090000
END:STANDARD
BEGIN:DAYLIGHT
TZOFFSETFROM:-0800
TZOFFSETTO:-0700
TZNAME:PDT
DTSTART:20250309T100000
END:DAYLIGHT
BEGIN:STANDARD
TZOFFSETFROM:-0700
TZOFFSETTO:-0800
TZNAME:PST
DTSTART:20251102T090000
END:STANDARD
BEGIN:DAYLIGHT
TZOFFSETFROM:-0800
TZOFFSETTO:-0700
TZNAME:PDT
DTSTART:20260308T100000
END:DAYLIGHT
BEGIN:STANDARD
TZOFFSETFROM:-0700
TZOFFSETTO:-0800
TZNAME:PST
DTSTART:20261101T090000
END:STANDARD
END:VTIMEZONE
BEGIN:VEVENT
DTSTART;TZID=America/Los_Angeles:20251011T100000
DTEND;TZID=America/Los_Angeles:20251011T130000
DTSTAMP:20260421T030656
CREATED:20250922T181521Z
LAST-MODIFIED:20250922T181551Z
UID:10000255-1760176800-1760187600@bigsurlandtrust.org
SUMMARY:Iceplant Removal at Martin Dunes | October 11
DESCRIPTION:Join BSLT to remove invasive iceplant in an effort to restore and care for Martin Dunes. \nJoin BSLT staff and volunteers in removing these invasive species to restore and care for the lands we love at Martin Dunes on October 11th (10:00 AM – 1:00 PM). Water\, snacks\, gloves\, and hand tools will be provided. Volunteers will work to manually remove as many satellite populations of iceplant as possible. \nRegister >>
URL:https://bigsurlandtrust.org/event/iceplant-removal-at-martin-dunes-october-11/
LOCATION:Salinas River National Wildlife Refuge Salinas\, CA 93908\, Salinas\, CA\, 93908\, United States
CATEGORIES:Volunteer Opportunities
ATTACH;FMTTYPE=image/jpeg:https://bigsurlandtrust.org/wp-content/uploads/2023/06/Martin-Dunes.-Volunteer-Event.-Iceplant-pull.-09-25-2021.-by-JC-NikonJCN_5837-copy.jpeg
END:VEVENT
BEGIN:VEVENT
DTSTART;TZID=America/Los_Angeles:20251015T090000
DTEND;TZID=America/Los_Angeles:20251015T130000
DTSTAMP:20260421T030656
CREATED:20251002T152441Z
LAST-MODIFIED:20251002T152441Z
UID:10000261-1760518800-1760533200@bigsurlandtrust.org
SUMMARY:Native Pollinator Garden Planting at Ferrini Ranch | October 15
DESCRIPTION:Join Big Sur Land Trust and Regenerative CA to plant a half-acre native pollinator garden at Ferrini Ranch.
URL:https://bigsurlandtrust.org/event/native-pollinator-garden-planting-at-ferrini-ranch-october-15/
LOCATION:The Patch\, 2 River Road\, Salinas\, CA\, 93908
CATEGORIES:Volunteer Opportunities
ATTACH;FMTTYPE=image/jpeg:https://bigsurlandtrust.org/wp-content/uploads/2025/10/NativePollinator_Ferrini.jpeg
END:VEVENT
BEGIN:VEVENT
DTSTART;TZID=America/Los_Angeles:20251022T140000
DTEND;TZID=America/Los_Angeles:20251022T170000
DTSTAMP:20260421T030656
CREATED:20250922T181755Z
LAST-MODIFIED:20250922T181755Z
UID:10000256-1761141600-1761152400@bigsurlandtrust.org
SUMMARY:Trail Work at Mitteldorf | October 22
DESCRIPTION:Join BSLT to clear trails and remove invasive plants along Williams Canyon at Mitteldorf Preserve. \nWilliams Canyon at Mitteldorf Preserve is becoming overgrown and we would very much appreciate assistance trimming and clearing the trail. This work will keep the trail clear for hikers\, remove invasive species\, provide safe vehicle access\, and act as fire mitigation. \nRegister >>
URL:https://bigsurlandtrust.org/event/trail-work-at-mitteldorf-october-22/
LOCATION:Palo Corona Regional Park\, 4860 Carmel Valley Rd\, Carmel\, CA\, 93923\, United States
CATEGORIES:Volunteer Opportunities
ATTACH;FMTTYPE=image/jpeg:https://bigsurlandtrust.org/wp-content/uploads/2025/08/Mitteldorf_Trail-e1756308572638.jpeg
END:VEVENT
BEGIN:VEVENT
DTSTART;TZID=America/Los_Angeles:20251024T090000
DTEND;TZID=America/Los_Angeles:20251024T140000
DTSTAMP:20260421T030656
CREATED:20250926T211649Z
LAST-MODIFIED:20250926T212529Z
UID:10000257-1761296400-1761314400@bigsurlandtrust.org
SUMMARY:Let's Go Outdoors! San Jose Creek 2-mile hike | October 24 (9am - 2pm)
DESCRIPTION:Join Big Sur Land Trust for a gentle 2-mile guided hike along the San Jose Creek Trail. \n\n\nEvery step of this hike was made possible through our partnership with the Monterey Peninsula Regional Park District\, California State Parks\, and Point Lobos Foundation as collaborative members of the Lobos Corona Parklands project – along with generous donors and funders. Shuttles will transport hikers from Palo Corona Regional Park (Rancho Cañada) to the Ishxenta State Park San Jose Creek trailhead\, which is only accessible through guided hikes. From there\, we will meander up the gentle incline along San Jose Creek\, looking for early wildflowers along the way. After crossing over San Jose Creek’s three magnificent redwood bridges\, we will arrive at the meadow that will be our turnaround point. This hike is a beautiful reminder that collaboration can bring beautiful change and that our actions are stronger when taken together. We are grateful to our partners and to our donors for each step forward that we take together. \nBring: Snacks to enjoy along the hike\, plus everything you need for a half-day of backcountry hiking. Sturdy closed-toe hiking shoes are required\, and layers are recommended. \n\nDistance: 2 miles\nElevation: 150′ total ascent\nDifficulty: Easy\nPace: Easy\n\nPlease note: \n\nEach participant must be individually registered (including kids\, who need to be accompanied by an adult).\nTransport from the meet-up location to the trailhead (approx. 10 min drive) will be by facilitated carpool.\n\nCAUTION: While the trails we will be on are well-tended\, this area is known to have extremely high tick densities. Please take extra precautions when preparing for this hike (wear light-colored clothes\, wear pants that can be tucked into socks\, bring and use tick repellent\, etc.) and be sure to do a thorough tick-check following your day with us. \nRegister >>
URL:https://bigsurlandtrust.org/event/lets-go-outdoors-san-jose-creek-2-mile-hike-october-24-9am-2pm/
LOCATION:Palo Corona Regional Park\, 4860 Carmel Valley Rd\, Carmel\, CA\, 93923\, United States
CATEGORIES:Guided Hikes
ATTACH;FMTTYPE=image/jpeg:https://bigsurlandtrust.org/wp-content/uploads/2025/09/https___cdn.evbuc_.com_images_553077989_131023840343_1_original.jpg
END:VEVENT
END:VCALENDAR