BEGIN:VCALENDAR
VERSION:2.0
PRODID:-//Big Sur Land Trust - ECPv6.15.20//NONSGML v1.0//EN
CALSCALE:GREGORIAN
METHOD:PUBLISH
X-ORIGINAL-URL:https://bigsurlandtrust.org
X-WR-CALDESC:Events for Big Sur Land Trust
REFRESH-INTERVAL;VALUE=DURATION:PT1H
X-Robots-Tag:noindex
X-PUBLISHED-TTL:PT1H
BEGIN:VTIMEZONE
TZID:America/Los_Angeles
BEGIN:DAYLIGHT
TZOFFSETFROM:-0800
TZOFFSETTO:-0700
TZNAME:PDT
DTSTART:20240310T100000
END:DAYLIGHT
BEGIN:STANDARD
TZOFFSETFROM:-0700
TZOFFSETTO:-0800
TZNAME:PST
DTSTART:20241103T090000
END:STANDARD
BEGIN:DAYLIGHT
TZOFFSETFROM:-0800
TZOFFSETTO:-0700
TZNAME:PDT
DTSTART:20250309T100000
END:DAYLIGHT
BEGIN:STANDARD
TZOFFSETFROM:-0700
TZOFFSETTO:-0800
TZNAME:PST
DTSTART:20251102T090000
END:STANDARD
BEGIN:DAYLIGHT
TZOFFSETFROM:-0800
TZOFFSETTO:-0700
TZNAME:PDT
DTSTART:20260308T100000
END:DAYLIGHT
BEGIN:STANDARD
TZOFFSETFROM:-0700
TZOFFSETTO:-0800
TZNAME:PST
DTSTART:20261101T090000
END:STANDARD
END:VTIMEZONE
BEGIN:VEVENT
DTSTART;TZID=America/Los_Angeles:20251108T100000
DTEND;TZID=America/Los_Angeles:20251108T130000
DTSTAMP:20260421T043543
CREATED:20251030T212605Z
LAST-MODIFIED:20251030T215244Z
UID:10000263-1762596000-1762606800@bigsurlandtrust.org
SUMMARY:Iceplant Removal | November 8
DESCRIPTION:Join BSLT staff and volunteers in removing these invasive species to restore and care for the lands we love at Martin Dunes on November 8th (10:00 AM – 1:00 PM). Water\, snacks\, gloves\, and hand tools will be provided. Volunteers will work to manually remove as many satellite populations of iceplant as possible.
URL:https://bigsurlandtrust.org/event/iceplant-removal-november-8/
LOCATION:Salinas River National Wildlife Refuge Salinas\, CA 93908\, Salinas\, CA\, 93908\, United States
CATEGORIES:Volunteer Opportunities
ATTACH;FMTTYPE=image/jpeg:https://bigsurlandtrust.org/wp-content/uploads/2023/06/Martin-Dunes.-Volunteer-Event.-Iceplant-pull.-09-25-2021.-by-JC-NikonJCN_5837-copy.jpeg
END:VEVENT
BEGIN:VEVENT
DTSTART;TZID=America/Los_Angeles:20251109T093000
DTEND;TZID=America/Los_Angeles:20251109T143000
DTSTAMP:20260421T043543
CREATED:20250820T165931Z
LAST-MODIFIED:20250820T172726Z
UID:10000250-1762680600-1762698600@bigsurlandtrust.org
SUMMARY:Monterey Bay Half Marathon BSLT Green Team | November 9
DESCRIPTION:Big Sur Land Trust is proud to be among the over 50 community groups that volunteer to make the Monterey Bay Half Marathon a sustainable and eco-friendly event each fall. This partnership is a joyful part of our work for healthy lands\, healthy people\, and healthy communities.   \nOn Sunday\, November 9 volunteer on the Monterey Bay Half Marathon’s ‘Green Team’ on behalf of Big Sur Land Trust\, as we help the event ‘leave no trace’ by sweeping the start/finish and entire course of litter. Please sign up here using the password BSLT.  \nKids are welcome (they do not need an RSVP) but must be accompanied by an adult. Volunteers should bring snacks\, lunch\, water\, and sun protection.  \nRegister here >> 
URL:https://bigsurlandtrust.org/event/monterey-bay-half-marathon-bslt-green-team-november-9/
LOCATION:CA
CATEGORIES:Community Events,Volunteer Opportunities
ATTACH;FMTTYPE=image/png:https://bigsurlandtrust.org/wp-content/uploads/2024/08/Screenshot-2024-08-27-at-12.01.57-PM.png
END:VEVENT
BEGIN:VEVENT
DTSTART;TZID=America/Los_Angeles:20251115T103000
DTEND;TZID=America/Los_Angeles:20251115T113000
DTSTAMP:20260421T043543
CREATED:20251104T181655Z
LAST-MODIFIED:20251104T182617Z
UID:10000264-1763202600-1763206200@bigsurlandtrust.org
SUMMARY:Monthly Park Clean-up | November 15
DESCRIPTION:Let’s come together once a month to clean up our local park and make our community a better place for everyone!\n\n\n\nMonthly Park Clean-up \nJoin Big Sur Land Trust and Friends of Ensen Community Park Volunteers for our Monthly Park Clean-up at Ensen Community Park! \nLet’s work together to keep our local green space beautiful and clean. This is a great opportunity to meet your neighbors\, get some fresh air\, and hear updates on the restoration project. We will provide gloves and tools. Let’s make a difference together! \nRegister >>
URL:https://bigsurlandtrust.org/event/monthly-park-clean-up-november-15/
LOCATION:Ensen Community Park\, 99 La Posada Drive\, Salinas\, CA\, 93906
CATEGORIES:Volunteer Opportunities
ATTACH;FMTTYPE=image/jpeg:https://bigsurlandtrust.org/wp-content/uploads/2025/07/Ensen-landing-page-1.jpg
END:VEVENT
BEGIN:VEVENT
DTSTART;TZID=America/Los_Angeles:20251117T080000
DTEND;TZID=America/Los_Angeles:20251117T170000
DTSTAMP:20260421T043543
CREATED:20250926T212018Z
LAST-MODIFIED:20250926T212402Z
UID:10000258-1763366400-1763398800@bigsurlandtrust.org
SUMMARY:Let's Go Outdoors! Williams Canyon to Rancho Cañada | November 17 (8am - 5pm)
DESCRIPTION:Join Big Sur Land Trust for a guided hike from the Williams Canyon parking meadow to Palo Corona Regional Park’s Rancho Cañada Unit. \nJoin Big Sur Land Trust on a guided hike from the Williams Canyon parking meadow to Palo Corona Regional Park’s Rancho Cañada Unit. We will traverse 8.5 miles (including three creek crossings) and climb over 1500 feet through Santa Lucia Conservancy land and Palo Corona Regional Park’s backcountry and front ranch. We will spend much of the day on lands not open to the public that are part of Big Sur Land Trust’s 45-year and 45\,000-acre legacy of land conservation\, so it will be our special pleasure to enable managed access to these conserved lands in support of our continuing land conservation efforts. \nBring: A picnic lunch and plenty of water\, plus everything you need for a day of strenuous backcountry hiking. There will be creek crossings\, so be prepared to get your feet wet! Sturdy closed-toe hiking shoes are required\, and layers are recommended. \n\nDistance: 8.5 miles\nElevation: 1500 feet\nDifficulty: Strenuous. Hikers should expect creek crossings and plenty of climbing and descent along this beautiful backcountry route.\n\nPlease note: \n\nEach participant must be individually registered (including kids\, who need to be accompanied by an adult).\nHikers must be 15+ years of age.\nTransport from the meet-up location to the trailhead (approx. 20 min drive) will be by facilitated carpool.\nPlease leave 4-legged friends at home (dogs are not permitted on BSLT guided hikes).\n\nCAUTION: While the trails we will be on are well-tended\, this area is known to have extremely high tick densities. Please take extra precautions when preparing for this hike (wear light-colored clothes\, wear pants that can be tucked into socks\, bring and use tick repellent\, etc.)\, and be sure to do a thorough tick-check following your day with us. \nRegister >>
URL:https://bigsurlandtrust.org/event/lets-go-outdoors-williams-canyon-rancho-canada-with-november-17-8am-5pm/
LOCATION:Palo Corona Regional Park\, 4860 Carmel Valley Rd\, Carmel\, CA\, 93923\, United States
CATEGORIES:Guided Hikes
ATTACH;FMTTYPE=image/jpeg:https://bigsurlandtrust.org/wp-content/uploads/2025/09/https___cdn.evbuc_.com_images_812963209_933105895913_1_original.jpg
END:VEVENT
END:VCALENDAR