BEGIN:VCALENDAR
VERSION:2.0
PRODID:-//Big Sur Land Trust - ECPv6.15.20//NONSGML v1.0//EN
CALSCALE:GREGORIAN
METHOD:PUBLISH
X-WR-CALNAME:Big Sur Land Trust
X-ORIGINAL-URL:https://bigsurlandtrust.org
X-WR-CALDESC:Events for Big Sur Land Trust
REFRESH-INTERVAL;VALUE=DURATION:PT1H
X-Robots-Tag:noindex
X-PUBLISHED-TTL:PT1H
BEGIN:VTIMEZONE
TZID:America/Los_Angeles
BEGIN:DAYLIGHT
TZOFFSETFROM:-0800
TZOFFSETTO:-0700
TZNAME:PDT
DTSTART:20250309T100000
END:DAYLIGHT
BEGIN:STANDARD
TZOFFSETFROM:-0700
TZOFFSETTO:-0800
TZNAME:PST
DTSTART:20251102T090000
END:STANDARD
BEGIN:DAYLIGHT
TZOFFSETFROM:-0800
TZOFFSETTO:-0700
TZNAME:PDT
DTSTART:20260308T100000
END:DAYLIGHT
BEGIN:STANDARD
TZOFFSETFROM:-0700
TZOFFSETTO:-0800
TZNAME:PST
DTSTART:20261101T090000
END:STANDARD
BEGIN:DAYLIGHT
TZOFFSETFROM:-0800
TZOFFSETTO:-0700
TZNAME:PDT
DTSTART:20270314T100000
END:DAYLIGHT
BEGIN:STANDARD
TZOFFSETFROM:-0700
TZOFFSETTO:-0800
TZNAME:PST
DTSTART:20271107T090000
END:STANDARD
END:VTIMEZONE
BEGIN:VEVENT
DTSTART;TZID=America/Los_Angeles:20260109T100000
DTEND;TZID=America/Los_Angeles:20260109T150000
DTSTAMP:20260423T032021
CREATED:20251217T193806Z
LAST-MODIFIED:20260105T195810Z
UID:10000271-1767952800-1767970800@bigsurlandtrust.org
SUMMARY:Monarch Butterfly Habitat Restoration | January 9
DESCRIPTION:Join us to plant milkweed plants and install fencing to benefit Monarch butterflies and improve habitat for native pollinators!\n\n\n\nWith the guidance and oversight from BSLT staff\, help us enhance our monarch butterfly habitat restoration project at Marks Ranch! We will be planting milkweed plants and installing fencing to protect the plants. \nRSVP >>
URL:https://bigsurlandtrust.org/event/monarch-butterfly-habitat-restoration-january-9/
LOCATION:Marks Ranch\, 117th Drive\, Salinas\, CA\, 93908\, United States
CATEGORIES:Volunteer Opportunities
ATTACH;FMTTYPE=image/jpeg:https://bigsurlandtrust.org/wp-content/uploads/2024/12/monarch-and-flower.jpg
END:VEVENT
BEGIN:VEVENT
DTSTART;TZID=America/Los_Angeles:20260110T100000
DTEND;TZID=America/Los_Angeles:20260110T150000
DTSTAMP:20260423T032021
CREATED:20251217T193626Z
LAST-MODIFIED:20260105T195909Z
UID:10000270-1768039200-1768057200@bigsurlandtrust.org
SUMMARY:Monarch Butterfly Habitat Restoration | January 10
DESCRIPTION:Join us to plant milkweed plants and install fencing to benefit Monarch butterflies and improve habitat for native pollinators!\n\n\n\nWith the guidance and oversight from BSLT staff\, help us enhance our monarch butterfly habitat restoration project at Marks Ranch! We will be planting milkweed plants and installing fencing to protect the plants. \nRSVP >>
URL:https://bigsurlandtrust.org/event/monarch-butterfly-habitat-restoration-january-10/
LOCATION:Marks Ranch\, 117th Drive\, Salinas\, CA\, 93908\, United States
CATEGORIES:Volunteer Opportunities
ATTACH;FMTTYPE=image/jpeg:https://bigsurlandtrust.org/wp-content/uploads/2024/12/monarch-and-flower.jpg
END:VEVENT
BEGIN:VEVENT
DTSTART;TZID=America/Los_Angeles:20260128T140000
DTEND;TZID=America/Los_Angeles:20260128T170000
DTSTAMP:20260423T032021
CREATED:20251217T193127Z
LAST-MODIFIED:20251217T193127Z
UID:10000269-1769608800-1769619600@bigsurlandtrust.org
SUMMARY:Trail Work at Mitteldorf Preserve | January 28
DESCRIPTION:Join BSLT to clear trails and remove invasive plants at Mitteldorf Preserve.\n\n\n\n1\,100 acre Mitteldorf Preserve is always in need of a little love! We will walk the lower sections of the preserve\, clearing the trails of debris and pulling any invasive species that we can identify. This work will keep the trails clear for hikers\, provide safe vehicle access\, and act as fire mitigation. \nRSVP >>
URL:https://bigsurlandtrust.org/event/trail-work-at-mitteldorf-preserve-january-28/
LOCATION:Palo Corona Regional Park\, 4860 Carmel Valley Rd\, Carmel\, CA\, 93923\, United States
CATEGORIES:Volunteer Opportunities
ATTACH;FMTTYPE=image/jpeg:https://bigsurlandtrust.org/wp-content/uploads/2025/08/Mitteldorf_Trail-e1756308572638.jpeg
END:VEVENT
END:VCALENDAR