BEGIN:VCALENDAR
VERSION:2.0
PRODID:-//Big Sur Land Trust - ECPv6.15.20//NONSGML v1.0//EN
CALSCALE:GREGORIAN
METHOD:PUBLISH
X-WR-CALNAME:Big Sur Land Trust
X-ORIGINAL-URL:https://bigsurlandtrust.org
X-WR-CALDESC:Events for Big Sur Land Trust
REFRESH-INTERVAL;VALUE=DURATION:PT1H
X-Robots-Tag:noindex
X-PUBLISHED-TTL:PT1H
BEGIN:VTIMEZONE
TZID:UTC
BEGIN:STANDARD
TZOFFSETFROM:+0000
TZOFFSETTO:+0000
TZNAME:UTC
DTSTART:20180101T000000
END:STANDARD
END:VTIMEZONE
BEGIN:VEVENT
DTSTART;TZID=UTC:20190803T080000
DTEND;TZID=UTC:20190803T110000
DTSTAMP:20260424T102518
CREATED:20190710T235316Z
LAST-MODIFIED:20190803T045951Z
UID:10000027-1564819200-1564830000@bigsurlandtrust.org
SUMMARY:FULL - Volunteer Event - Carr Lake Weed Warriors Needed
DESCRIPTION:You can be part of history at our Carr Lake site in Salinas\, August 3rd from 8:00 – 11:00 AM! As we plan a new park in the heart of the city\, we are working with CSUMB’s Return of the Natives on growing a native plant garden. The garden serves as a demonstration site for what will be possible when our property is fully restored. Students and community members who work on the garden are all making history as they bring back these native plants to Carr Lake: White Yarrow\, Mugwort\, California Poppy\, Santa Barbara Sedge\, Creeping Wild Rye\, Coast Live Oak and Valley Oak. You can be part of this amazing story too! \nAfter all the spring rains\, the garden is thriving – and so are the weeds. We need several volunteers to help us maintain the garden\, remove vegetation from the walkways\, pick up litter and apply mulch. Gloves and snacks will be provided. \nThis event is now FULL! We look forward to seeing those who registered on Saturday\, August 3rd.
URL:https://bigsurlandtrust.org/event/volunteer-event-carr-lake-weed-warriors-needed/
LOCATION:CA\, United States
ATTACH;FMTTYPE=image/jpeg:https://bigsurlandtrust.org/wp-content/uploads/2018/11/carr-lake-planting-1.jpg
GEO:36.778261;-119.4179324
END:VEVENT
END:VCALENDAR