BEGIN:VCALENDAR
VERSION:2.0
PRODID:-//Big Sur Land Trust - ECPv6.15.20//NONSGML v1.0//EN
CALSCALE:GREGORIAN
METHOD:PUBLISH
X-ORIGINAL-URL:https://bigsurlandtrust.org
X-WR-CALDESC:Events for Big Sur Land Trust
REFRESH-INTERVAL;VALUE=DURATION:PT1H
X-Robots-Tag:noindex
X-PUBLISHED-TTL:PT1H
BEGIN:VTIMEZONE
TZID:UTC
BEGIN:STANDARD
TZOFFSETFROM:+0000
TZOFFSETTO:+0000
TZNAME:UTC
DTSTART:20170101T000000
END:STANDARD
END:VTIMEZONE
BEGIN:VEVENT
DTSTART;TZID=UTC:20191115T093000
DTEND;TZID=UTC:20191115T120000
DTSTAMP:20260424T064610
CREATED:20191017T233534Z
LAST-MODIFIED:20191025T001531Z
UID:10000013-1573810200-1573819200@bigsurlandtrust.org
SUMMARY:FULL - Carmel River FREE Tour
DESCRIPTION:FULL – This hike is currently full. Please check our events calendar for upcoming tours www.bigsurlandtrust.org/events \nFriday\, November 15\n9:30 am – 12:00 pm \nBSLT’s Nikki Nedeff and Rachel Saunders will lead this informational tour of the site for the Carmel River Floodplain Restoration and Environmental Enhancement (Carmel River FREE) Project. \nThe tour is a moderate 2.5-mile walk from the Monterey Peninsula Regional Park District’s (MPRPD) Discovery Center to Palo Corona’s front ranch trails. It’s a wonderful opportunity to envision the floodplain restoration of the former Odello agriculture fields as BSLT’s 128-acre property is transformed in the coming years.
URL:https://bigsurlandtrust.org/event/carmel-river-free-tour-6/
LOCATION:MPRPD Discovery Center Parking lot\, 4860 Carmel Valley Rd\, Carmel\, CA\, 93923\, United States
CATEGORIES:Community Events
ATTACH;FMTTYPE=image/jpeg:https://bigsurlandtrust.org/wp-content/uploads/2019/04/Aerial-of-Odello.jpg
END:VEVENT
BEGIN:VEVENT
DTSTART;TZID=UTC:20190817T093000
DTEND;TZID=UTC:20190817T120000
DTSTAMP:20260424T064610
CREATED:20190814T005543Z
LAST-MODIFIED:20190828T034647Z
UID:10000022-1566034200-1566043200@bigsurlandtrust.org
SUMMARY:Carmel River FREE Tour
DESCRIPTION:BSLT staff members Nikki Nedeff and Rachel Saunders will lead a guided tour of the site for the Carmel River Floodplain Restoration and Environmental Enhancement (Carmel River FREE) Project. This is an approximately 2.5-mile informational walk from the Monterey Peninsula Regional Park District’s (MPRPD) new Discovery Center to the Palo Corona front ranch trails. On this moderate walk you will have an opportunity to envision the floodplain restoration of the former Odello agriculture fields as BSLT’s 128-acre property is transformed in the coming years. \nMeet at 9:30 am at the MPRPD Discovery Center Parking lot (former Rancho Canada Golf Club parking lot) 4860 Carmel Valley Road\, Carmel.
URL:https://bigsurlandtrust.org/event/carmel-river-free-tour-5/
LOCATION:MPRPD Discovery Center Parking lot\, 4860 Carmel Valley Rd\, Carmel\, CA\, 93923\, United States
ATTACH;FMTTYPE=image/jpeg:https://bigsurlandtrust.org/wp-content/uploads/2019/04/Aerial-of-Odello.jpg
END:VEVENT
BEGIN:VEVENT
DTSTART;TZID=UTC:20190726T093000
DTEND;TZID=UTC:20190726T113000
DTSTAMP:20260424T064610
CREATED:20190724T032539Z
LAST-MODIFIED:20190828T034613Z
UID:10000025-1564133400-1564140600@bigsurlandtrust.org
SUMMARY:Carmel River FREE Tour
DESCRIPTION:BSLT staff members Nikki Nedeff and Rachel Saunders will lead a guided tour of the site for the Carmel River Floodplain Restoration and Environmental Enhancement (Carmel River FREE) Project. This is an approximately 2.5-mile informational walk from the Monterey Peninsula Regional Park District’s (MPRPD) new Discovery Center to the Palo Corona front ranch trails. On this moderate walk you will have an opportunity to envision the floodplain restoration of the former Odello agriculture fields as BSLT’s 128-acre property is transformed in the coming years.
URL:https://bigsurlandtrust.org/event/carmel-river-free-tour-4/
LOCATION:MPRPD Discovery Center Parking lot\, 4860 Carmel Valley Rd\, Carmel\, CA\, 93923\, United States
ATTACH;FMTTYPE=image/jpeg:https://bigsurlandtrust.org/wp-content/uploads/2019/04/Aerial-of-Odello.jpg
END:VEVENT
BEGIN:VEVENT
DTSTART;TZID=UTC:20190629T093000
DTEND;TZID=UTC:20190629T113000
DTSTAMP:20260424T064610
CREATED:20190628T012243Z
LAST-MODIFIED:20190828T034605Z
UID:10000002-1561800600-1561807800@bigsurlandtrust.org
SUMMARY:Carmel River FREE Tour
DESCRIPTION:BSLT staff members Nikki Nedeff and Beth Febus will lead a guided tour of the site for the Carmel River Floodplain Restoration and Environmental Enhancement (Carmel River FREE) Project. This is an approximately 2.5-mile informational walk from the Monterey Peninsula Regional Park District’s (MPRPD) new Discovery Center to the Palo Corona front ranch trails. On this moderate walk you will have an opportunity to envision the floodplain restoration of the former Odello agriculture fields as BSLT’s 128-acre property is transformed in the coming years. \nMeet at 9:30 am at the MPRPD Discovery Center Parking lot (former Rancho Canada Golf Club parking lot) 4860 Carmel Valley Road\, Carmel.
URL:https://bigsurlandtrust.org/event/carmel-river-free-tour-3/
LOCATION:MPRPD Discovery Center Parking lot\, 4860 Carmel Valley Rd\, Carmel\, CA\, 93923\, United States
ATTACH;FMTTYPE=image/jpeg:https://bigsurlandtrust.org/wp-content/uploads/2019/04/Aerial-of-Odello.jpg
END:VEVENT
BEGIN:VEVENT
DTSTART;TZID=UTC:20190531T093000
DTEND;TZID=UTC:20190531T110000
DTSTAMP:20260424T064610
CREATED:20190425T041853Z
LAST-MODIFIED:20190501T045130Z
UID:10000036-1559295000-1559300400@bigsurlandtrust.org
SUMMARY:FULL - Carmel River FREE Tour
DESCRIPTION:FULL TOUR. Please check back frequently for another tour. BSLT staff member Rachel Saunders will lead a guided tour of the site for the Carmel River Floodplain Restoration and Environmental Enhancement (Carmel River FREE) Project. On this moderate walk you will have an opportunity to envision the floodplain restoration of the former Odello agriculture fields as BSLT’s 128-acre property is transformed in the coming years.
URL:https://bigsurlandtrust.org/event/carmel-river-free-tour-2/
LOCATION:MPRPD Discovery Center Parking lot\, 4860 Carmel Valley Rd\, Carmel\, CA\, 93923\, United States
ATTACH;FMTTYPE=image/jpeg:https://bigsurlandtrust.org/wp-content/uploads/2019/04/Aerial-of-Odello.jpg
END:VEVENT
BEGIN:VEVENT
DTSTART;TZID=UTC:20181208T093000
DTEND;TZID=UTC:20181208T120000
DTSTAMP:20260424T064610
CREATED:20181029T214329Z
LAST-MODIFIED:20181208T072853Z
UID:10000046-1544261400-1544270400@bigsurlandtrust.org
SUMMARY:Carmel River FREE Tour -- FULL
DESCRIPTION:This tour is now FULL. Please stay tuned for more tour dates in 2019! BSLT staff members Sarah Hardgrave and Rachel Saunders will lead a guided tour of the site for the Carmel River Floodplain Restoration and Environmental Enhancement (Carmel River FREE) Project. This is an approximately 2.5-mile informational walk from the Monterey Peninsula Regional Park District’s (MPRPD) new Discovery Center to the Palo Corona front ranch trails. On this moderate walk you will have an opportunity to envision the floodplain restoration of the former Odello agriculture fields as BSLT’s 128-acre property is transformed in the coming years. \nMeet at 9:30 am at the MPRPD Discovery Center Parking lot (former Rancho Canada Golf Club parking lot). 4860 Carmel Valley Road\, Carmel
URL:https://bigsurlandtrust.org/event/carmel-river-free-tour/
LOCATION:MPRPD Discovery Center Parking lot\, 4860 Carmel Valley Rd\, Carmel\, CA\, 93923\, United States
ATTACH;FMTTYPE=image/jpeg:https://bigsurlandtrust.org/wp-content/uploads/2018/10/CRFREE300x244.jpg
END:VEVENT
END:VCALENDAR