BEGIN:VCALENDAR
VERSION:2.0
PRODID:-//Big Sur Land Trust - ECPv6.15.20//NONSGML v1.0//EN
CALSCALE:GREGORIAN
METHOD:PUBLISH
X-ORIGINAL-URL:https://bigsurlandtrust.org
X-WR-CALDESC:Events for Big Sur Land Trust
REFRESH-INTERVAL;VALUE=DURATION:PT1H
X-Robots-Tag:noindex
X-PUBLISHED-TTL:PT1H
BEGIN:VTIMEZONE
TZID:America/Los_Angeles
BEGIN:DAYLIGHT
TZOFFSETFROM:-0800
TZOFFSETTO:-0700
TZNAME:PDT
DTSTART:20200308T100000
END:DAYLIGHT
BEGIN:STANDARD
TZOFFSETFROM:-0700
TZOFFSETTO:-0800
TZNAME:PST
DTSTART:20201101T090000
END:STANDARD
BEGIN:DAYLIGHT
TZOFFSETFROM:-0800
TZOFFSETTO:-0700
TZNAME:PDT
DTSTART:20210314T100000
END:DAYLIGHT
BEGIN:STANDARD
TZOFFSETFROM:-0700
TZOFFSETTO:-0800
TZNAME:PST
DTSTART:20211107T090000
END:STANDARD
BEGIN:DAYLIGHT
TZOFFSETFROM:-0800
TZOFFSETTO:-0700
TZNAME:PDT
DTSTART:20220313T100000
END:DAYLIGHT
BEGIN:STANDARD
TZOFFSETFROM:-0700
TZOFFSETTO:-0800
TZNAME:PST
DTSTART:20221106T090000
END:STANDARD
END:VTIMEZONE
BEGIN:VTIMEZONE
TZID:UTC
BEGIN:STANDARD
TZOFFSETFROM:+0000
TZOFFSETTO:+0000
TZNAME:UTC
DTSTART:20170101T000000
END:STANDARD
END:VTIMEZONE
BEGIN:VEVENT
DTSTART;TZID=America/Los_Angeles:20211113T073000
DTEND;TZID=America/Los_Angeles:20211113T150000
DTSTAMP:20260422T044203
CREATED:20211103T171637Z
LAST-MODIFIED:20220308T190009Z
UID:10000069-1636788600-1636815600@bigsurlandtrust.org
SUMMARY:FULL! Docent-led Hike | November 13
DESCRIPTION:NOTE: This hike has reached capacity and is now full. \nDocent-led hikes are back! Our volunteer hike leaders are very excited to get on the lands we all love with you. \nSaturday\, November 13\n7:30am – 3:00pm\nArroyo Seco Ranch\, Greenfield \nLevel of Difficulty – moderately strenuous. \nThis full-day hike will take you through rich riparian habitat\, dense oak woodlands\, steep canyons and a historical location on the ranch. Along the way\, you’ll be treated to sweeping views of the Arroyo Seco Watershed. Hiking poles highly recommended for shallow river crossings\, steep slopes and rocky terrain. Temperatures can be expected to exceed 80 degrees Fahrenheit. Elevation gain – 500 ft. Distance – 4 miles. \nThis event has passed. Please stay tuned for more events like this one.
URL:https://bigsurlandtrust.org/event/docent-led-hike-november-13/
LOCATION:Arroyo Seco\, Meet at Wild Goose Café 18 E Carmel Valley Road\, Carmel Valley\, CA\, 93924\, United States
CATEGORIES:Community Events,Hikes
ATTACH;FMTTYPE=image/jpeg:https://bigsurlandtrust.org/wp-content/uploads/2021/11/Arroyo-Seo-Hike-2021-by-Jose-Carlos-Navarro-26.jpg
END:VEVENT
BEGIN:VEVENT
DTSTART;TZID=UTC:20181016T073000
DTEND;TZID=UTC:20181016T130000
DTSTAMP:20260422T044203
CREATED:20180929T001609Z
LAST-MODIFIED:20181011T234444Z
UID:10000001-1539675000-1539694800@bigsurlandtrust.org
SUMMARY:Arroyo Seco Hike
DESCRIPTION:October 16\, 2018 • 7:30AM – 1:00 PM\n\n  \nMeeting Location:\nWild Goose Café\n18 E Carmel Valley Rd. (12.32)\nCarmel Valley\, CA 93924\nMeet at 7:30 AM sharp. Arrive early if you want to indulge in a great cup of coffee and a pastry! We will caravan together to the ranch.\nCome and explore this remote 1\,675-acre ranch acquired by Big Sur Land Trust in 2007. Fronting the Arroyo Seco River\, the property was a conservation priority because of its diverse habitats\, native plant and animal species\, river and creek systems and links to surrounding wilderness areas. Learn more about our 5-mile hike and extended trip options. \n \nA moderately strenuous 5-mile round-trip hike will take you through the rich riparian habitat of Horse Canyon and sycamore alluvial woodlands. Be prepared for multiple creek crossings and rocky terrain. \nOn the extended (very strenuous!) option we will explore dense oak woodlands\, hike up to high country to take in panoramic views of the Arroyo Seco watershed\, and descend to cross (or swim in!) the Arroyo Seco River.
URL:https://bigsurlandtrust.org/event/arroyo-seco-hike/
LOCATION:Arroyo Seco\, Meet at Wild Goose Café 18 E Carmel Valley Road\, Carmel Valley\, CA\, 93924\, United States
ATTACH;FMTTYPE=image/jpeg:https://bigsurlandtrust.org/wp-content/uploads/2018/09/K2_8036-X3-Arroyo-Seco-vista-10.18-1-e1538155121101.jpg
END:VEVENT
END:VCALENDAR