BEGIN:VCALENDAR
VERSION:2.0
PRODID:-//Big Sur Land Trust - ECPv6.15.20//NONSGML v1.0//EN
CALSCALE:GREGORIAN
METHOD:PUBLISH
X-WR-CALNAME:Big Sur Land Trust
X-ORIGINAL-URL:https://bigsurlandtrust.org
X-WR-CALDESC:Events for Big Sur Land Trust
REFRESH-INTERVAL;VALUE=DURATION:PT1H
X-Robots-Tag:noindex
X-PUBLISHED-TTL:PT1H
BEGIN:VTIMEZONE
TZID:UTC
BEGIN:STANDARD
TZOFFSETFROM:+0000
TZOFFSETTO:+0000
TZNAME:UTC
DTSTART:20180101T000000
END:STANDARD
END:VTIMEZONE
BEGIN:VEVENT
DTSTART;TZID=UTC:20200227T173000
DTEND;TZID=UTC:20200227T190000
DTSTAMP:20260422T150150
CREATED:20200116T002311Z
LAST-MODIFIED:20220308T190238Z
UID:10000007-1582824600-1582830000@bigsurlandtrust.org
SUMMARY:Volunteer Open House
DESCRIPTION:Thursday\, February 27\n5:30pm – 7:00pm\nBSLT Office – 509 Hartnell Street\nMonterey\, CA 93940 \nWe are lucky to work in a community of individuals who care deeply about the place they live. \nWith Big Sur Land Trust\, your energy\, time\, curiosity and passion are put to good use to care for the lands you love throughout Monterey County. \nPlease join us at our Volunteer Open House to learn how you can contribute your skills\, to get inspired by stories from current volunteers\, and to sign up as a volunteer for one or more of the opportunities we will have throughout 2020. \nIf you can’t attend\, you can learn more and easily sign-up online to be notified of volunteer opportunities. \n\nThis event has passed. Please stay tuned for more events like this one.
URL:https://bigsurlandtrust.org/event/volunteer-open-house-2/
LOCATION:Big Sur Land Trust\, 509 Hartnell Street\, Monterey\, CA\, 93940\, United States
CATEGORIES:Community Events,Volunteer Opportunities
ATTACH;FMTTYPE=image/jpeg:https://bigsurlandtrust.org/wp-content/uploads/2020/01/GJW-1160-copy-2-e1579105458726.jpg
GEO:36.5968373;-121.8958712
X-APPLE-STRUCTURED-LOCATION;VALUE=URI;X-ADDRESS=Big Sur Land Trust 509 Hartnell Street Monterey CA 93940 United States;X-APPLE-RADIUS=500;X-TITLE=509 Hartnell Street:geo:-121.8958712,36.5968373
END:VEVENT
BEGIN:VEVENT
DTSTART;TZID=UTC:20191212T120000
DTEND;TZID=UTC:20191212T130000
DTSTAMP:20260422T150150
CREATED:20191115T065253Z
LAST-MODIFIED:20220308T190259Z
UID:10000004-1576152000-1576155600@bigsurlandtrust.org
SUMMARY:FULL - Presentation: Midway Atoll Annual Albatross Nesting Census
DESCRIPTION:EVENT CLOSED \nCome join long-time Big Sur Land Trust supporter and volunteer\, Jan Loomis as she shares her recent experience on Midway Atoll with the US Fish and Wildlife Service. Through humor\, story-telling and photos she will discuss the annual albatross nesting census and give an update on other current projects at Midway Atoll. While Jan’s main job on Midway was to census nesting birds\, Jan’s training as an observer and emergency responder would not allow her to ignore the slow-moving crises of climate change and plastic pollution that were impacting a large breeding colony of birds on one of the most remote islands on the planet. \nA light lunch will be provided. RSVP using the form below. \nAbout Jan Loomis \nIn December of 2018\, Jan Loomis went to Midway Atoll to have an adventure and be surrounded by the seabirds she had recently fallen in love with (thank you Makana). As a new member of the U.S. Fish and Wildlife Annual Nesting Albatross Census Team\, she came to know all things Albatross. For nearly six weeks she lived and worked among the largest nesting colony of Laysan Albatross in the world. Jan loves to travel and the more remote and exotic\, the better! Her formal training/background has been a thirty-five-year career in emergency medicine (RN and paramedic)\, but her true love has always been marine biology – in particular shore and seabirds. \nShe currently works in the field of travel medicine – keeping everyday travelers\, marine biologists (including MBA and MBARI staff!)\, Peace Corps workers\, members of the Department of Defense\, foreign governments and Homeland Security from contracting diseases while away on foreign assignments and travel. Locally\, Jan is involved with two citizen-science projects that give ample opportunities for enjoying the Monterey Bay’s amazing wildlife while contributing to local conservation efforts. She recently completed her third year with the Central Coast Black Oystercatcher Monitoring Project and as a volunteer naturalist for the Monterey Bay National Marine Sanctuary (NOAA). \nThis event has passed. Please stay tuned for more events like this one.
URL:https://bigsurlandtrust.org/event/presentation-midway-atoll-annual-albatross-nesting-census/
LOCATION:Big Sur Land Trust\, 509 Hartnell Street\, Monterey\, CA\, 93940\, United States
CATEGORIES:Community Events
ATTACH;FMTTYPE=image/jpeg:https://bigsurlandtrust.org/wp-content/uploads/2019/11/Albatross_Birds_BSLT_Event-scaled.jpeg
GEO:36.5968373;-121.8958712
X-APPLE-STRUCTURED-LOCATION;VALUE=URI;X-ADDRESS=Big Sur Land Trust 509 Hartnell Street Monterey CA 93940 United States;X-APPLE-RADIUS=500;X-TITLE=509 Hartnell Street:geo:-121.8958712,36.5968373
END:VEVENT
BEGIN:VEVENT
DTSTART;TZID=UTC:20190227T173000
DTEND;TZID=UTC:20190227T193000
DTSTAMP:20260422T150150
CREATED:20190119T013717Z
LAST-MODIFIED:20190216T052254Z
UID:10000042-1551288600-1551295800@bigsurlandtrust.org
SUMMARY:Volunteer Open House at Hartnell Office
DESCRIPTION:We are so grateful for our volunteers and the vital role they play! Are you interested in supporting BSLT by contributing your passion\, time and talents? Please RSVP below to join us at our open house! If you can’t attend\, you can easily sign up online to be notified of volunteer opportunities.
URL:https://bigsurlandtrust.org/event/volunteer-open-house/
LOCATION:Big Sur Land Trust\, 509 Hartnell Street\, Monterey\, CA\, 93940\, United States
ATTACH;FMTTYPE=image/jpeg:https://bigsurlandtrust.org/wp-content/uploads/2019/02/Volunteer-trail-work-002.jpg
GEO:36.5968373;-121.8958712
X-APPLE-STRUCTURED-LOCATION;VALUE=URI;X-ADDRESS=Big Sur Land Trust 509 Hartnell Street Monterey CA 93940 United States;X-APPLE-RADIUS=500;X-TITLE=509 Hartnell Street:geo:-121.8958712,36.5968373
END:VEVENT
END:VCALENDAR