BEGIN:VCALENDAR
VERSION:2.0
PRODID:-//Big Sur Land Trust - ECPv6.15.20//NONSGML v1.0//EN
CALSCALE:GREGORIAN
METHOD:PUBLISH
X-WR-CALNAME:Big Sur Land Trust
X-ORIGINAL-URL:https://bigsurlandtrust.org
X-WR-CALDESC:Events for Big Sur Land Trust
REFRESH-INTERVAL;VALUE=DURATION:PT1H
X-Robots-Tag:noindex
X-PUBLISHED-TTL:PT1H
BEGIN:VTIMEZONE
TZID:UTC
BEGIN:STANDARD
TZOFFSETFROM:+0000
TZOFFSETTO:+0000
TZNAME:UTC
DTSTART:20190101T000000
END:STANDARD
END:VTIMEZONE
BEGIN:VEVENT
DTSTART;TZID=UTC:20200306T193000
DTEND;TZID=UTC:20200306T210000
DTSTAMP:20260422T151306
CREATED:20191210T055316Z
LAST-MODIFIED:20200307T062000Z
UID:10000006-1583523000-1583528400@bigsurlandtrust.org
SUMMARY:An Evening with Best-Selling Author\, Richard Louv
DESCRIPTION:Friday\, March 6\nDoors will open at 7:00PM\n7:30 – 9:00PM\nHidden Valley\n104 West Carmel Valley Road\nCarmel Valley\, CA 93924\n \nJoin Big Sur Land Trust for an inspirational evening with Richard Louv\, author of Our Wild Calling: How Connecting With Animals Can Transform Our Lives — and Save Theirs and Last Child in the Woods: Saving our Children from Nature-Deficit Disorder. \nDoors will open at 7:00PM\, event will run from 7:30 – 9:00PM. \n  \nPresented in partnership with:\nPilgrim’s Way Bookstore\nVentana Wildlife Society \nSponsored by:\nBalance Hydrologics\nBFS Landscape Architects\nBlink Optometry\nDenise Duffy & Associates\nMonterey Peninsula Volunteer Services Thrift Shop\nMonterey Private Wealth\nMonterey Signs\nNatividad Foundation\nSpoke Consulting\nWhitson Engineers \nReviews and Articles on Our Wild Calling \n\n\n“How Humans Can Coexist With Other Animals” New York Times \n\n\n“‘Our Wild Calling’ argues for emotional connection with animals” The Christian Science Monitor \n\n“Ecopsychology: How Immersion in Nature Benefits Your Health” Yale Environment 360\n“Our Wild Calling by Richard Louv Is a Game Changer” Psychology Today\n\nTickets will be available for purchase at the door. 
URL:https://bigsurlandtrust.org/event/an-evening-with-best-selling-author-richard-louv/
LOCATION:Hidden Valley\, 104 West Carmel Valley Road\, Carmel Valley\, CA\, 93924\, United States
CATEGORIES:Community Events
ATTACH;FMTTYPE=image/png:https://bigsurlandtrust.org/wp-content/uploads/2019/12/FB_RichardLouv_March6-2.png
END:VEVENT
END:VCALENDAR