BEGIN:VCALENDAR
VERSION:2.0
PRODID:-//Big Sur Land Trust - ECPv6.15.20//NONSGML v1.0//EN
CALSCALE:GREGORIAN
METHOD:PUBLISH
X-WR-CALNAME:Big Sur Land Trust
X-ORIGINAL-URL:https://bigsurlandtrust.org
X-WR-CALDESC:Events for Big Sur Land Trust
REFRESH-INTERVAL;VALUE=DURATION:PT1H
X-Robots-Tag:noindex
X-PUBLISHED-TTL:PT1H
BEGIN:VTIMEZONE
TZID:America/Los_Angeles
BEGIN:DAYLIGHT
TZOFFSETFROM:-0800
TZOFFSETTO:-0700
TZNAME:PDT
DTSTART:20200308T100000
END:DAYLIGHT
BEGIN:STANDARD
TZOFFSETFROM:-0700
TZOFFSETTO:-0800
TZNAME:PST
DTSTART:20201101T090000
END:STANDARD
BEGIN:DAYLIGHT
TZOFFSETFROM:-0800
TZOFFSETTO:-0700
TZNAME:PDT
DTSTART:20210314T100000
END:DAYLIGHT
BEGIN:STANDARD
TZOFFSETFROM:-0700
TZOFFSETTO:-0800
TZNAME:PST
DTSTART:20211107T090000
END:STANDARD
BEGIN:DAYLIGHT
TZOFFSETFROM:-0800
TZOFFSETTO:-0700
TZNAME:PDT
DTSTART:20220313T100000
END:DAYLIGHT
BEGIN:STANDARD
TZOFFSETFROM:-0700
TZOFFSETTO:-0800
TZNAME:PST
DTSTART:20221106T090000
END:STANDARD
BEGIN:DAYLIGHT
TZOFFSETFROM:-0800
TZOFFSETTO:-0700
TZNAME:PDT
DTSTART:20230312T100000
END:DAYLIGHT
BEGIN:STANDARD
TZOFFSETFROM:-0700
TZOFFSETTO:-0800
TZNAME:PST
DTSTART:20231105T090000
END:STANDARD
BEGIN:DAYLIGHT
TZOFFSETFROM:-0800
TZOFFSETTO:-0700
TZNAME:PDT
DTSTART:20240310T100000
END:DAYLIGHT
BEGIN:STANDARD
TZOFFSETFROM:-0700
TZOFFSETTO:-0800
TZNAME:PST
DTSTART:20241103T090000
END:STANDARD
END:VTIMEZONE
BEGIN:VEVENT
DTSTART;TZID=America/Los_Angeles:20230621T173000
DTEND;TZID=America/Los_Angeles:20230621T203000
DTSTAMP:20260420T002651
CREATED:20230605T194820Z
LAST-MODIFIED:20230605T194820Z
UID:10000157-1687368600-1687379400@bigsurlandtrust.org
SUMMARY:Solstice Sunset Invasive Species Removal at Martin Dunes | June 21
DESCRIPTION:Located within the Monterey Bay dune complex\, Martin Dunes protects critical habitat for several special status species\, including the Monterey spineflower\, Smith’s blue butterfly\, and Western snowy plover. However\, introduced invasive species such as ice plant and annual grasses are prime threats to this native coastal dune system. \nJoin BSLT staff and volunteers in removing these invasive species in an effort to restore and care for the lands we love at Martin Dunes on June 21st (5:30 p.m.- 8:30 p.m.). Water\, snacks\, gloves\, and hand tools will be provided. Volunteers will work to manually remove as many satellite populations of ice plant as possible while also tackling Ripgut Brome\, which has begun to take over in areas. \nThere is no shade cover where we will be pulling invasives\, so please bring sun protection. \nPLEASE NOTE OUR MEET-UP LOCATION: We will convene in the REI Marina parking lot. Please park in the parking spaces facing General Stillwell Drive\, and look for Big Sur Land Trust staff in that area. \nSign up today >>
URL:https://bigsurlandtrust.org/event/solstice-sunset-invasive-species-removal-at-martin-dunes-june-21/
LOCATION:Martin Dunes\, Marina\, CA\, United States
CATEGORIES:Volunteer Opportunities
ATTACH;FMTTYPE=image/jpeg:https://bigsurlandtrust.org/wp-content/uploads/2023/06/Martin-Dunes.-Volunteer-Event.-Iceplant-pull.-09-25-2021.-by-JC-NikonJCN_5837-copy.jpeg
END:VEVENT
BEGIN:VEVENT
DTSTART;TZID=America/Los_Angeles:20230610T093000
DTEND;TZID=America/Los_Angeles:20230610T140000
DTSTAMP:20260420T002651
CREATED:20230530T160357Z
LAST-MODIFIED:20230602T213429Z
UID:10000154-1686389400-1686405600@bigsurlandtrust.org
SUMMARY:Martin Dunes Invasive Species Removal | June 10
DESCRIPTION:It’s California Invasive Species Action Week (CISAW)! CISAW is an annual weeklong event\, organized by the California Department of Fish and Wildlife\, to increase public awareness of invasive species issues and promote public participation in the fight against California’s invasive species and their impacts on our natural resources.  \nRemoving ice plant and annual grasses is hard work but necessary to protect the biodiversity of Martin Dunes\, which protects critical habitat for several special status species\, including the Monterey spineflower\, Smith’s blue butterfly\, and Western snowy plover.  \nPlease join BSLT staff and volunteers in removing these invasive species as part of CISAW and in an effort to restore and care for the lands we love at Martin Dunes. Water\, snacks\, gloves\, and hand tools will be provided. Volunteers will work to manually remove as many satellite populations of ice plant as possible while also tackling Ripgut Brome\, which has begun to take over in areas. \nThere is no shade cover where we will be pulling invasives\, so please bring sun protection. \nPLEASE NOTE OUR MEET-UP LOCATION: We will convene in the REI Marina parking lot. Please park in the parking spaces facing General Stillwell Drive\, and look for Big Sur Land Trust staff in that area. \nSign up today >>
URL:https://bigsurlandtrust.org/event/martin-dunes-invasive-species-removal-june-10/
LOCATION:Martin Dunes\, Marina\, CA\, United States
CATEGORIES:Community Events,Volunteer Opportunities
ATTACH;FMTTYPE=image/jpeg:https://bigsurlandtrust.org/wp-content/uploads/2022/08/Martin-Dunes-Iceplant-Pull-Volunteer-Event-2019JCN_5817.jpg
END:VEVENT
BEGIN:VEVENT
DTSTART;TZID=America/Los_Angeles:20230512T100000
DTEND;TZID=America/Los_Angeles:20230512T140000
DTSTAMP:20260420T002651
CREATED:20230427T204629Z
LAST-MODIFIED:20230510T192154Z
UID:10000143-1683885600-1683900000@bigsurlandtrust.org
SUMMARY:- POSTPONED - Volunteer: Martin Dunes Invasive Species Removal | May 12
DESCRIPTION:Located within the Monterey Bay dune complex\, Martin Dunes protects critical habitat for several special status species\, including the Monterey spineflower\, Smith’s blue butterfly\, and Western snowy plover. However\, introduced invasive species such as ice plant and annual grasses are prime threats to this native coastal dune system. \nJoin BSLT staff and volunteers in removing these invasive species in an effort to restore and care for the lands we love at Martin Dunes on May 12th (10 a.m.- 2 p.m.). Water\, snacks\, gloves\, and hand tools will be provided. Volunteers will work to manually remove as many satellite populations of ice plant as possible while also tackling Ripgut Brome\, which has begun to take over in areas. \nRegister >>
URL:https://bigsurlandtrust.org/event/volunteer-martin-dunes-invasive-specials-removal-may-12/
LOCATION:Martin Dunes\, Marina\, CA\, United States
CATEGORIES:Volunteer Opportunities
ATTACH;FMTTYPE=image/jpeg:https://bigsurlandtrust.org/wp-content/uploads/2022/08/Martin-Dunes-Iceplant-Pull-Volunteer-Event-2019JCN_5817.jpg
END:VEVENT
BEGIN:VEVENT
DTSTART;TZID=America/Los_Angeles:20221118T093000
DTEND;TZID=America/Los_Angeles:20221118T133000
DTSTAMP:20260420T002651
CREATED:20221003T202620Z
LAST-MODIFIED:20221003T202620Z
UID:10000092-1668763800-1668778200@bigsurlandtrust.org
SUMMARY:Iceplant Pull | November 18
DESCRIPTION:Join the BSLT team at Martin Dunes as we pull iceplant to give the local dune ecosystem more space to thrive. \nAlthough iceplant has been almost completely eradicated from the Martin Dunes preserve in Marina\, we must keep it in check. Endangered endemic species like the legless lizard and the Smith’s blue butterfly are depending on us! \nPlease join us Friday\, November 18th to pull iceplant along with other Big Sur Land Trust volunteers and staff. We’ll also pick up trash along the way. Snacks will be provided. Sign up today!
URL:https://bigsurlandtrust.org/event/iceplant-pull-november-18/
LOCATION:Martin Dunes\, Marina\, CA\, United States
CATEGORIES:Community Events,Volunteer Opportunities
ATTACH;FMTTYPE=image/jpeg:https://bigsurlandtrust.org/wp-content/uploads/2022/08/Martin-Dunes-Iceplant-Pull-Volunteer-Event-2019JCN_5817.jpg
END:VEVENT
BEGIN:VEVENT
DTSTART;TZID=America/Los_Angeles:20220829T140000
DTEND;TZID=America/Los_Angeles:20220829T170000
DTSTAMP:20260420T002651
CREATED:20220804T152811Z
LAST-MODIFIED:20220804T152811Z
UID:10000088-1661781600-1661792400@bigsurlandtrust.org
SUMMARY:Iceplant Pull at Martin Dunes | August 29
DESCRIPTION:Although iceplant has been almost completely eradicated from the Martin Dunes preserve in Marina\, we must keep it in check. Endangered endemic species like the legless lizard and the Smith’s blue butterfly are depending on us! \nPlease join us Monday\, August 29 to pull iceplant along with other BSLT volunteers and staff. We’ll also pick up trash along the way. Snacks will be provided. Sign up today! \nRSVP here!
URL:https://bigsurlandtrust.org/event/iceplant-pull-at-martin-dunes-august-29/
LOCATION:Martin Dunes\, Marina\, CA\, United States
CATEGORIES:Community Events,Volunteer Opportunities
ATTACH;FMTTYPE=image/jpeg:https://bigsurlandtrust.org/wp-content/uploads/2022/08/Martin-Dunes-Iceplant-Pull-Volunteer-Event-2019JCN_5817.jpg
END:VEVENT
BEGIN:VEVENT
DTSTART;TZID=America/Los_Angeles:20220219T093000
DTEND;TZID=America/Los_Angeles:20220219T133000
DTSTAMP:20260420T002651
CREATED:20220204T201740Z
LAST-MODIFIED:20220308T185912Z
UID:10000077-1645263000-1645277400@bigsurlandtrust.org
SUMMARY:Stewardship Volunteer Event – Iceplant Pull
DESCRIPTION:Stewardship Volunteer Event – Iceplant Pull\nSaturday\, February 19 | 9:30AM – 1:30PM\nMartin Dunes \nDespite our efforts last month\, the sensitive dune habitat at Martin Dunes still demands our attention. Although the invasive iceplant has been eradicated almost completely from from this part of the dune system\, we must keep it in check. Endangered endemic species like the legless lizard and the Smith’s blue butterfly depend on it. \nPlease join us Saturday\, February 19 to pull iceplant with BSLT volunteers and staff. Snacks will be provided. Invite your friends and sign up today! \nThis is a family friendly event. \nThis event has passed. Please stay tuned for more events like this one.
URL:https://bigsurlandtrust.org/event/stewardship-volunteer-event-iceplant-pull-2/
LOCATION:Martin Dunes\, Marina\, CA\, United States
CATEGORIES:Community Events,Volunteer Opportunities
ATTACH;FMTTYPE=image/jpeg:https://bigsurlandtrust.org/wp-content/uploads/2022/02/Martin-Dunes-Volunteer-Iceplant-pull-1-29-2022-43.jpg
END:VEVENT
BEGIN:VEVENT
DTSTART;TZID=America/Los_Angeles:20220129T093000
DTEND;TZID=America/Los_Angeles:20220129T130000
DTSTAMP:20260420T002651
CREATED:20220119T201815Z
LAST-MODIFIED:20220308T185809Z
UID:10000075-1643448600-1643461200@bigsurlandtrust.org
SUMMARY:Stewardship Volunteer Event - Iceplant Pull
DESCRIPTION:Stewardship Volunteer Event – Iceplant Pull\nSaturday\, January 29 | 9:30AM – 1:00PM\nMartin Dunes\n \nAlthough the invasive iceplant has almost completely been eradicated from Martin Dunes in Marina\, we must keep it in check. Endangered endemic species like the legless lizard and the Smith’s blue butterfly depend on it. \nWe invite you to join us Saturday\, January 29 in an iceplant pulling volunteer event. We’ll also pick up trash along the way. Sign up today! \nThis event has passed. Please stay tuned for more events like this one.
URL:https://bigsurlandtrust.org/event/stewardship-volunteer-event-iceplant-pull/
LOCATION:Martin Dunes\, Marina\, CA\, United States
CATEGORIES:Community Events,Volunteer Opportunities
ATTACH;FMTTYPE=image/jpeg:https://bigsurlandtrust.org/wp-content/uploads/2022/01/Martin-Dunes-Iceplant-Pull-Volunteers-Sept-2019-by-JC-10.jpg
END:VEVENT
BEGIN:VEVENT
DTSTART;TZID=America/Los_Angeles:20210925T100000
DTEND;TZID=America/Los_Angeles:20210925T130000
DTSTAMP:20260420T002651
CREATED:20210916T215913Z
LAST-MODIFIED:20220308T190019Z
UID:10000066-1632564000-1632574800@bigsurlandtrust.org
SUMMARY:FULL | Iceplant Pulling Volunteer Event | September 25
DESCRIPTION:Saturday\, September 25\n10:00AM to 1:00PM\nMartin Dunes in Marina\n \nAlthough the invasive iceplant has almost been completely eradicated from Martin Dunes in Marina\, we must keep it in check. Endangered endemic species like the legless lizard and the Smith’s blue butterfly depend on it. \nWe invite you to join us Saturday September 25th in a land stewardship volunteer event to continue our work of nurturing the native dune ecosystem at Martin Dunes. We’ll also pick up trash along the way. We need 8 to 10 volunteers\, so sign up today! \nThis event has passed. Please stay tuned for more events like this one.
URL:https://bigsurlandtrust.org/event/iceplant-pulling-volunteer-event-september-25/
LOCATION:Martin Dunes\, Marina\, CA\, United States
CATEGORIES:Community Events,Volunteer Opportunities
ATTACH;FMTTYPE=image/jpeg:https://bigsurlandtrust.org/wp-content/uploads/2021/09/JCN_5817-small.jpg
END:VEVENT
END:VCALENDAR