BEGIN:VCALENDAR
VERSION:2.0
PRODID:-//Big Sur Land Trust - ECPv6.15.20//NONSGML v1.0//EN
CALSCALE:GREGORIAN
METHOD:PUBLISH
X-WR-CALNAME:Big Sur Land Trust
X-ORIGINAL-URL:https://bigsurlandtrust.org
X-WR-CALDESC:Events for Big Sur Land Trust
REFRESH-INTERVAL;VALUE=DURATION:PT1H
X-Robots-Tag:noindex
X-PUBLISHED-TTL:PT1H
BEGIN:VTIMEZONE
TZID:America/Los_Angeles
BEGIN:DAYLIGHT
TZOFFSETFROM:-0800
TZOFFSETTO:-0700
TZNAME:PDT
DTSTART:20230312T100000
END:DAYLIGHT
BEGIN:STANDARD
TZOFFSETFROM:-0700
TZOFFSETTO:-0800
TZNAME:PST
DTSTART:20231105T090000
END:STANDARD
BEGIN:DAYLIGHT
TZOFFSETFROM:-0800
TZOFFSETTO:-0700
TZNAME:PDT
DTSTART:20240310T100000
END:DAYLIGHT
BEGIN:STANDARD
TZOFFSETFROM:-0700
TZOFFSETTO:-0800
TZNAME:PST
DTSTART:20241103T090000
END:STANDARD
BEGIN:DAYLIGHT
TZOFFSETFROM:-0800
TZOFFSETTO:-0700
TZNAME:PDT
DTSTART:20250309T100000
END:DAYLIGHT
BEGIN:STANDARD
TZOFFSETFROM:-0700
TZOFFSETTO:-0800
TZNAME:PST
DTSTART:20251102T090000
END:STANDARD
BEGIN:DAYLIGHT
TZOFFSETFROM:-0800
TZOFFSETTO:-0700
TZNAME:PDT
DTSTART:20260308T100000
END:DAYLIGHT
BEGIN:STANDARD
TZOFFSETFROM:-0700
TZOFFSETTO:-0800
TZNAME:PST
DTSTART:20261101T090000
END:STANDARD
END:VTIMEZONE
BEGIN:VEVENT
DTSTART;TZID=America/Los_Angeles:20250625T140000
DTEND;TZID=America/Los_Angeles:20250625T170000
DTSTAMP:20260419T205654
CREATED:20250529T223624Z
LAST-MODIFIED:20250529T223624Z
UID:10000238-1750860000-1750870800@bigsurlandtrust.org
SUMMARY:Iceplant Removal | June 25
DESCRIPTION:In the Monterey Bay dune complex\, Martin Dunes protects critical habitat for several special status species\, including the Monterey spineflower\, Smith’s blue butterfly\, and Western snowy plover. However\, introduced invasive species such as ice plant and annual grasses are prime threats to this native coastal dune system. \nJoin BSLT staff and volunteers in removing these invasive species to restore and care for the lands we love at Martin Dunes on June 25 (2:00 PM- 5:00 PM). Water\, snacks\, gloves\, and hand tools will be provided. Volunteers will work to manually remove as many satellite populations of iceplant as possible. \nIMPORTANT CONSIDERATIONS: \n\nThere is no shade cover where we pull invasives\, so please bring sun protection.\nThere are ticks\, so come prepared with pants and closed-toed shoes. We’ll bring tick repellent for you to use.\nYou will be hiking strenuously for half a mile on sand.\n\nPLEASE NOTE OUR MEET-UP LOCATION: We will convene in the parking area of the Salinas River National Wildlife Refuge at the end of Neposent Rd\, which is a dirt road. \nRegister >>
URL:https://bigsurlandtrust.org/event/iceplant-removal-june-25/
LOCATION:River Loop Trail\, River Loop Trail\, Marina\, 93908\, United States
CATEGORIES:Volunteer Opportunities
ATTACH;FMTTYPE=image/jpeg:https://bigsurlandtrust.org/wp-content/uploads/2023/06/Martin-Dunes.-Volunteer-Event.-Iceplant-pull.-09-25-2021.-by-JC-NikonJCN_5837-copy.jpeg
END:VEVENT
BEGIN:VEVENT
DTSTART;TZID=America/Los_Angeles:20241019T093000
DTEND;TZID=America/Los_Angeles:20241019T133000
DTSTAMP:20260419T205654
CREATED:20240923T220458Z
LAST-MODIFIED:20240923T220458Z
UID:10000209-1729330200-1729344600@bigsurlandtrust.org
SUMMARY:Iceplant Removal at Martin Dunes | October 19
DESCRIPTION:Join BSLT to remove invasive iceplant in an effort to restore and care for Martin Dunes. \n\n\nLocated within the Monterey Bay dune complex\, Martin Dunes protects critical habitat for several special status species\, including the Monterey spineflower\, Smith’s blue butterfly\, and Western snowy plover. However\, introduced invasive species such as ice plant and annual grasses are prime threats to this native coastal dune system. \nJoin BSLT staff and volunteers in removing these invasive species to restore and care for the lands we love at Martin Dunes on October 19 (9:30 a.m.- 1:30 p.m.). Water\, snacks\, gloves\, and hand tools will be provided. Volunteers will work to manually remove as many satellite populations of iceplant as possible. \nRegister >>
URL:https://bigsurlandtrust.org/event/iceplant-removal-at-martin-dunes-october-19/
LOCATION:River Loop Trail\, River Loop Trail\, Marina\, 93908\, United States
CATEGORIES:Volunteer Opportunities
ATTACH;FMTTYPE=image/jpeg:https://bigsurlandtrust.org/wp-content/uploads/2024/05/https___cdn.evbuc_.com_images_529519819_372566006211_1_original.jpg
END:VEVENT
BEGIN:VEVENT
DTSTART;TZID=America/Los_Angeles:20240921T093000
DTEND;TZID=America/Los_Angeles:20240921T133000
DTSTAMP:20260419T205654
CREATED:20240916T220606Z
LAST-MODIFIED:20240916T220606Z
UID:10000208-1726911000-1726925400@bigsurlandtrust.org
SUMMARY:Iceplant Removal at Martin Dunes | September 21
DESCRIPTION:Join BSLT to remove invasive iceplant in an effort to restore and care for Martin Dunes. \n\n\nLocated within the Monterey Bay dune complex\, Martin Dunes protects critical habitat for several special status species\, including the Monterey spineflower\, Smith’s blue butterfly\, and Western snowy plover. However\, introduced invasive species such as ice plant and annual grasses are prime threats to this native coastal dune system. \nJoin BSLT staff and volunteers in removing these invasive species in an effort to restore and care for the lands we love at Martin Dunes on August 17 (9:30 a.m.- 1:30 p.m.). Water\, snacks\, gloves\, and hand tools will be provided. Volunteers will work to manually remove as many satellite populations of iceplant as possible while also tackling Ripgut Brome\, which has begun to take over in areas. \nThere is no shade cover where we will be pulling invasives\, so please bring sun protection. \nPLEASE NOTE OUR MEET-UP LOCATION: We will convene in the parking area of the Salinas River National Wildlife Refuge at the end of Neposent Rd. which is a dirt road. \nRegister >> 
URL:https://bigsurlandtrust.org/event/iceplant-removal-martin-dunes-september-21/
LOCATION:River Loop Trail\, River Loop Trail\, Marina\, 93908\, United States
CATEGORIES:Volunteer Opportunities
ATTACH;FMTTYPE=image/jpeg:https://bigsurlandtrust.org/wp-content/uploads/2024/05/https___cdn.evbuc_.com_images_529519819_372566006211_1_original.jpg
END:VEVENT
BEGIN:VEVENT
DTSTART;TZID=America/Los_Angeles:20240817T093000
DTEND;TZID=America/Los_Angeles:20240817T133000
DTSTAMP:20260419T205654
CREATED:20240801T212427Z
LAST-MODIFIED:20240801T212427Z
UID:10000202-1723887000-1723901400@bigsurlandtrust.org
SUMMARY:Invasive Species Removal at Martin Dunes | August 17
DESCRIPTION:Join BSLT to remove invasive iceplant and annual grasses in an effort to restore and care for Martin Dunes \n\n\nLocated within the Monterey Bay dune complex\, Martin Dunes protects critical habitat for several special status species\, including the Monterey spineflower\, Smith’s blue butterfly\, and Western snowy plover. However\, introduced invasive species such as ice plant and annual grasses are prime threats to this native coastal dune system. \nJoin BSLT staff and volunteers in removing these invasive species in an effort to restore and care for the lands we love at Martin Dunes on August 17 (9:30 a.m.- 1:30 p.m.). Water\, snacks\, gloves\, and hand tools will be provided. Volunteers will work to manually remove as many satellite populations of iceplant as possible while also tackling Ripgut Brome\, which has begun to take over in areas. \nThere is no shade cover where we will be pulling invasives\, so please bring sun protection. \nPLEASE NOTE OUR MEET-UP LOCATION: We will convene in the parking area of the Salinas River National Wildlife Refuge at the end of Neposent Rd. which is a dirt road. \nRegister >> 
URL:https://bigsurlandtrust.org/event/invasive-species-removal-at-martin-dunes-august-17/
LOCATION:River Loop Trail\, River Loop Trail\, Marina\, 93908\, United States
CATEGORIES:Volunteer Opportunities
ATTACH;FMTTYPE=image/jpeg:https://bigsurlandtrust.org/wp-content/uploads/2024/05/https___cdn.evbuc_.com_images_529519819_372566006211_1_original.jpg
END:VEVENT
BEGIN:VEVENT
DTSTART;TZID=America/Los_Angeles:20240622T173000
DTEND;TZID=America/Los_Angeles:20240622T200000
DTSTAMP:20260419T205654
CREATED:20240514T174625Z
LAST-MODIFIED:20240621T152312Z
UID:10000198-1719077400-1719086400@bigsurlandtrust.org
SUMMARY:Solstice Sunset Invasive Species Removal at Martin Dunes | June 22
DESCRIPTION:Join BSLT on the summer solstice to remove invasive iceplant and annual grasses in an effort to restore and care for Martin Dunes. \nLocated within the Monterey Bay dune complex\, Martin Dunes protects critical habitat for several special status species\, including the Monterey spineflower\, Smith’s blue butterfly\, and Western snowy plover. However\, introduced invasive species such as ice plant and annual grasses are prime threats to this native coastal dune system. \nJoin BSLT staff and volunteers in removing these invasive species in an effort to restore and care for the lands we love at Martin Dunes on June 22nd (5:30 p.m.- 8:00 p.m.). Water\, snacks\, gloves\, and hand tools will be provided. Volunteers will work to manually remove as many satellite populations of ice plant as possible while also tackling Ripgut Brome\, which has begun to take over in areas. \nThere is no shade cover where we will be pulling invasives\, so please bring sun protection. \nPLEASE NOTE OUR MEET-UP LOCATION: We will convene in the parking area of the Salinas River National Wildlife Refuge at the end of Neposent Rd. which is a dirt road. \nRegister >> 
URL:https://bigsurlandtrust.org/event/solstice-sunset-invasive-species-removal-at-martin-dunes-june-22/
LOCATION:River Loop Trail\, River Loop Trail\, Marina\, 93908\, United States
CATEGORIES:Volunteer Opportunities
ATTACH;FMTTYPE=image/jpeg:https://bigsurlandtrust.org/wp-content/uploads/2024/05/https___cdn.evbuc_.com_images_529519819_372566006211_1_original.jpg
END:VEVENT
END:VCALENDAR