BEGIN:VCALENDAR
VERSION:2.0
PRODID:-//Big Sur Land Trust - ECPv6.15.20//NONSGML v1.0//EN
CALSCALE:GREGORIAN
METHOD:PUBLISH
X-WR-CALNAME:Big Sur Land Trust
X-ORIGINAL-URL:https://bigsurlandtrust.org
X-WR-CALDESC:Events for Big Sur Land Trust
REFRESH-INTERVAL;VALUE=DURATION:PT1H
X-Robots-Tag:noindex
X-PUBLISHED-TTL:PT1H
BEGIN:VTIMEZONE
TZID:UTC
BEGIN:STANDARD
TZOFFSETFROM:+0000
TZOFFSETTO:+0000
TZNAME:UTC
DTSTART:20170101T000000
END:STANDARD
END:VTIMEZONE
BEGIN:VEVENT
DTSTART;TZID=UTC:20191120T180000
DTEND;TZID=UTC:20191120T200000
DTSTAMP:20260420T025452
CREATED:20191017T234209Z
LAST-MODIFIED:20220308T190305Z
UID:10000003-1574272800-1574280000@bigsurlandtrust.org
SUMMARY:Carr Lake Community Meeting
DESCRIPTION:Wednesday\, November 20\nSherwood Hall\n940 N Main St\, Salinas\n6:00 – 8:00 pm \nJoin us at our community meeting for a presentation of new design ideas for our 73-acre site at Carr Lake! We’ll be asking you to share your views afterwards. \nChildcare will be available\, and food will be served at 5:30 p.m. \nThis event has passed. Please stay tuned for more events like this one.
URL:https://bigsurlandtrust.org/event/carr-lake-community-meeting-2/
LOCATION:Sherwood Hall\, 940 N. Main Street\, Salinas\, CA\, 93906\, United States
CATEGORIES:Community Events
ATTACH;FMTTYPE=image/jpeg:https://bigsurlandtrust.org/wp-content/uploads/2019/10/CarrLake_CommunityMeeting.jpg
END:VEVENT
BEGIN:VEVENT
DTSTART;TZID=UTC:20181114T180000
DTEND;TZID=UTC:20181114T200000
DTSTAMP:20260420T025453
CREATED:20180919T110033Z
LAST-MODIFIED:20181102T031640Z
UID:10000011-1542218400-1542225600@bigsurlandtrust.org
SUMMARY:Carr Lake Community Meeting
DESCRIPTION:Help Design a Park in Salinas!\nNovember 14\, 2018 • 6:00-8:00 PM\n\nHelp design a park at Big Sur Land Trust’s 73 acres in Carr Lake. Join us at our community meetings to learn more. All meetings will be at Sherwood Hall at 940 N. Main Street in Salinas. There will be English and Spanish presentations. Food will be available at 5:30pm and childcare will be available. Please RSVP by filling the form below:
URL:https://bigsurlandtrust.org/event/carr-lake-community-meeting/
LOCATION:Sherwood Hall\, 940 N. Main Street\, Salinas\, CA\, 93906\, United States
ATTACH;FMTTYPE=image/jpeg:https://bigsurlandtrust.org/wp-content/uploads/2018/09/CarrLake.jpg
END:VEVENT
BEGIN:VEVENT
DTSTART;TZID=UTC:20181004T180000
DTEND;TZID=UTC:20181004T200000
DTSTAMP:20260420T025453
CREATED:20180919T105736Z
LAST-MODIFIED:20180919T105849Z
UID:10000050-1538676000-1538683200@bigsurlandtrust.org
SUMMARY:Carr Lake Community Event
DESCRIPTION:Help Design a Park in Salinas!\nOctober 4\, 2018 • 6:00-8:00 PM\nLocation:\nSherwood Hall\n940 N. Main Street\nSalinas\, CA \n\nHelp design a park at Big Sur Land Trust’s 73 acres in Carr Lake. Join us at our community meetings to learn more. All meetings will be at Sherwood Hall at 940 N. Main Street in Salinas. There will be English and Spanish presentations. Food will be available at 5:30pm and childcare will be available. Please RSVP by filling the form below:
URL:https://bigsurlandtrust.org/event/carr-lake-community-event-2/
LOCATION:Sherwood Hall\, 940 N. Main Street\, Salinas\, CA\, 93906\, United States
ATTACH;FMTTYPE=image/jpeg:https://bigsurlandtrust.org/wp-content/uploads/2018/09/CarrLake.jpg
END:VEVENT
BEGIN:VEVENT
DTSTART;TZID=UTC:20180920T180000
DTEND;TZID=UTC:20180920T200000
DTSTAMP:20260420T025453
CREATED:20180913T011658Z
LAST-MODIFIED:20180919T101208Z
UID:10000048-1537466400-1537473600@bigsurlandtrust.org
SUMMARY:Carr Lake Community Event
DESCRIPTION:Help Design a Park in Salinas!\nSeptember 20\, 2018 • 6:00-8:00 PM\nHelp design a park at Big Sur Land Trust’s 73 acres in Carr Lake.\n\nJoin us at our community meetings to learn more. Click the above link to RSVP.
URL:https://bigsurlandtrust.org/event/carr-lake-community-event/
LOCATION:Sherwood Hall\, 940 N. Main Street\, Salinas\, CA\, 93906\, United States
ATTACH;FMTTYPE=image/jpeg:https://bigsurlandtrust.org/wp-content/uploads/2018/09/CarrLake.jpg
END:VEVENT
END:VCALENDAR